BEGIN:VCALENDAR
VERSION:2.0
PRODID:-//Brohn Homes - ECPv6.15.20//NONSGML v1.0//EN
CALSCALE:GREGORIAN
METHOD:PUBLISH
X-ORIGINAL-URL:https://brohnhomes.com
X-WR-CALDESC:Events for Brohn Homes
REFRESH-INTERVAL;VALUE=DURATION:PT1H
X-Robots-Tag:noindex
X-PUBLISHED-TTL:PT1H
BEGIN:VTIMEZONE
TZID:America/Chicago
BEGIN:DAYLIGHT
TZOFFSETFROM:-0600
TZOFFSETTO:-0500
TZNAME:CDT
DTSTART:20240310T080000
END:DAYLIGHT
BEGIN:STANDARD
TZOFFSETFROM:-0500
TZOFFSETTO:-0600
TZNAME:CST
DTSTART:20241103T070000
END:STANDARD
BEGIN:DAYLIGHT
TZOFFSETFROM:-0600
TZOFFSETTO:-0500
TZNAME:CDT
DTSTART:20250309T080000
END:DAYLIGHT
BEGIN:STANDARD
TZOFFSETFROM:-0500
TZOFFSETTO:-0600
TZNAME:CST
DTSTART:20251102T070000
END:STANDARD
BEGIN:DAYLIGHT
TZOFFSETFROM:-0600
TZOFFSETTO:-0500
TZNAME:CDT
DTSTART:20260308T080000
END:DAYLIGHT
BEGIN:STANDARD
TZOFFSETFROM:-0500
TZOFFSETTO:-0600
TZNAME:CST
DTSTART:20261101T070000
END:STANDARD
END:VTIMEZONE
BEGIN:VEVENT
DTSTART;TZID=America/Chicago:20251018T100000
DTEND;TZID=America/Chicago:20251018T110000
DTSTAMP:20260423T105119
CREATED:20250916T195929Z
LAST-MODIFIED:20250916T195929Z
UID:26573-1760781600-1760785200@brohnhomes.com
SUMMARY:Yoga in the Park - Cloverleaf
DESCRIPTION:With work\, family\, life\, and more\, does it feel like you’re always on the go? Join the Brohn Homes Cloverleaf team Saturday\, October 18\, 2025\, from 10-11 am to slow down with Yoga in the Park with Cydney Ervin. \nCoffee and light refreshments will be served. \n\nCommunity Events are open to the public. To see all events\, please visit our Events page. 
URL:https://brohnhomes.com/event/yoga-in-the-park-cloverleaf/
LOCATION:Cloverleaf\, 11308 Comano Drive\, Austin\, TX\, 78747\, United States
CATEGORIES:Community Events
ATTACH;FMTTYPE=image/jpeg:https://brohnhomes.com/wp-content/uploads/2025/09/Brohn-Homes-Cloverleaf-Yoga-in-the-Park-101825.jpg
END:VEVENT
BEGIN:VEVENT
DTSTART;TZID=America/Chicago:20251018T110000
DTEND;TZID=America/Chicago:20251018T130000
DTSTAMP:20260423T105119
CREATED:20250807T151225Z
LAST-MODIFIED:20250919T192611Z
UID:25410-1760785200-1760792400@brohnhomes.com
SUMMARY:Harvest Ridge - Path to Home: Homeownership Workshop
DESCRIPTION:Calling All New Home Buyers – Turn your home buying fears into empowerment. Contracts\, credit scores\, closing\, and everything in between\, we’re bringing along our partner lender to help answer your biggest questions about home buying. Spots are limited – Be sure to RSVP! \n\nMeet with a Brohn salesperson\, local realtor Kendra Pearson\, and CMG Financial representative\nLearn about the home buying process and ask questions along the way\nReceive a take-home resource to help your journey\n\nRefreshments will be served. \n\nCommunity Events are open to the public. To see all events\, please visit our Events page. 
URL:https://brohnhomes.com/event/harvest-ridge-path-to-home-homeownership-workshop/
LOCATION:Harvest Ridge Sales Office\, 103 Roost Road\, Elgin\, TX\, 78621
CATEGORIES:Community Events,Homebuying Education
ATTACH;FMTTYPE=image/jpeg:https://brohnhomes.com/wp-content/uploads/2025/08/Brohn-Homes-Path-to-Home-Title.jpg
END:VEVENT
BEGIN:VEVENT
DTSTART;TZID=America/Chicago:20251022T110000
DTEND;TZID=America/Chicago:20251022T130000
DTSTAMP:20260423T105119
CREATED:20251008T180444Z
LAST-MODIFIED:20251008T183919Z
UID:27317-1761130800-1761138000@brohnhomes.com
SUMMARY:Cascade Realtor VIP Tour
DESCRIPTION:You’re Invited to Liberty Hill\nBe among the first to tour completed homes in Cascade by Brohn Homes in the Liberty Hill ISD\, with resort-style living\, and pricing starting in the mid $200s. We’re celebrating the release of our first 5 homes with exclusive incentives you don’t want to miss! Enjoy refreshments from Paris Baguette in Leander while you’re here. \nAll Realtors who attend in person will be entered to win a $300 Amazon Gift Card or a $200 Perry’s Steakhouse Gift Card! PLUS\, Realtors will be eligible for a $1\,500 bonus on any Cascade home sold between October 22\, 2025 and November 30\, 2025*. \nCome see why Cascade is Liberty Hill’s newest must-see community with designer finishes\, resort-style amenities\, and homes that deliver value without compromise. \nTopAgent Events are exclusively for Realtors. Haven’t worked with Brohn yet? We’d love to have you join the Brohn Family; learn more about selling with Brohn on our Agents page.To see all events\, including Community Events\, please visit our Events page.  \n*Bonus must be mentioned prior to client signing a new Brohn Homes contract on or between 10/22/25 and 11/30/25 to receive $1\,500 bonus. Real Estate Agent Bonus Program available only when your client closes on a home in a participating Brohn Homes community. All bonuses will be paid at closing. Payments of total commissions and bonuses will only be made to actively licensed Texas brokers. Broker is responsible for all applicable taxes. Since seller reserves the right to modify or discontinue this program at any time without notice\, please call the applicable sales center in advance to confirm that the program is still in place. Bonus/commission offer not valid for Purchase Agreements signed by buyer prior to publication of this advertisement. May not be combined with any other broker bonuses or offers. Please see a Brohn Homes Sales Consultant for complete details. Clayton Properties Group\, Inc. Formerly known and Qualified to do business in Texas as CMH Parks Inc. DBA Brohn Homes reserves the right to make changes to pricing\, floor plans\, specifications\, features\, dimensions\, elevations\, and incentives without prior notice. Copyright © 2025 Clayton Properties Group\, Inc. Formerly known and Qualified to do business in Texas as CMH Parks Inc. DBA Brohn Homes.
URL:https://brohnhomes.com/event/cascade-realtor-vip-tour/
LOCATION:Cascade Sales Office\, 104 Spokeshave Ln.\, Liberty Hill\, TX\, 78642\, United States
CATEGORIES:Top Agent
ATTACH;FMTTYPE=image/jpeg:https://brohnhomes.com/wp-content/uploads/2025/10/Brohn-Homes-Realtor-VIP-Tour-Cascade-102225.jpg
END:VEVENT
BEGIN:VEVENT
DTSTART;VALUE=DATE:20251024
DTEND;VALUE=DATE:20251101
DTSTAMP:20260423T105119
CREATED:20251002T200608Z
LAST-MODIFIED:20251002T200608Z
UID:27205-1761264000-1761955199@brohnhomes.com
SUMMARY:Brohn Homes Safe Halloween 2025
DESCRIPTION:All treats\, no tricks – join Brohn Homes at all Central Texas locations\, including our newest San Antonio community\, Hunters Ranch! Drop in anytime between October 24\, 2025\, and October 31\, 2025\, to receive a reflective Halloween bag\, safety tips\, and of course\, candy! PLUS\, stop by Saturday\, October 25\, for extra festivities for all ages. Whether you’re looking for your new home\, meeting up with neighbors\, or just looking to show off your awesome costume\, stop by and see us! \n\nCascade – 104 Spokeshave Ln.\, Liberty Hill\, TX 78642\nCasetta Ranch – 182 Hortus Dr.\, Kyle\, TX 78640\nClear Creek – 2605 Sam Bass Rd. #17\, Round Rock\, TX 78681\nCloverleaf – 11308 Comano Dr.\, Austin\, TX 78747\nCross Creek – 600 C-Bar Ranch Trl. Unit 99\, Cedar Park\, TX 78634\nEdgebrooke – 2714 Totley Rd.\, Pflugerville\, TX 78660\nHarvest Ridge – 103 Roost Rd.\, Elgin\, TX 78621\nHunters Ranch – 164 Beaver Path\, San Antonio\, TX 78245\nHymeadow – 441 Delta Crest\, Maxwell\, TX 78656\n\nCommunity Events are open to the public. To see all events\, please visit our Events page. 
URL:https://brohnhomes.com/event/brohn-homes-safe-halloween-2025/
CATEGORIES:Community Events
ATTACH;FMTTYPE=image/jpeg:https://brohnhomes.com/wp-content/uploads/2025/10/Brohn-Homes-Safe-Halloween-2025.jpg
END:VEVENT
BEGIN:VEVENT
DTSTART;TZID=America/Chicago:20251025T120000
DTEND;TZID=America/Chicago:20251025T160000
DTSTAMP:20260423T105119
CREATED:20251002T202927Z
LAST-MODIFIED:20251002T202927Z
UID:27208-1761393600-1761408000@brohnhomes.com
SUMMARY:Diwali 2025 at Clear Creek
DESCRIPTION:Friends\, family\, and neighbors\, join us at Brohn Homes Clear Creek as we gather and celebrate Diwali together. At Brohn Homes\, we know that community is more than just houses on the same street; it is the people who live there and bring life and love into the home. Whether you already call Clear Creek home or are looking for a new home in a fantastic community\, join us on Saturday\, October 25\, 2025\, to celebrate with us. \nComplimentary lunch provided by CMG Financial. \nCommunity Events are open to the public. To see all events\, please visit our Events page. 
URL:https://brohnhomes.com/event/diwali-2025-at-clear-creek/
LOCATION:Clear Creek Sales Office\, 2605 Sam Bass Road #17\, Round Rock\, TX\, 78681
CATEGORIES:Community Events
ATTACH;FMTTYPE=image/jpeg:https://brohnhomes.com/wp-content/uploads/2025/10/Brohn-Homes-Diwali-2025-at-Clear-Creek-1.jpg
END:VEVENT
BEGIN:VEVENT
DTSTART;TZID=America/Chicago:20251026T120000
DTEND;TZID=America/Chicago:20251026T160000
DTSTAMP:20260423T105119
CREATED:20251017T141913Z
LAST-MODIFIED:20251017T141913Z
UID:27520-1761480000-1761494400@brohnhomes.com
SUMMARY:Touchdown and Tour - Cloverleaf
DESCRIPTION:Get ready for game day at our Touchdown & Tour event! Join us at our model home in Cloverleaf for an NFL watch party filled with great food (yes\, wings included!)\, good company\, and a chance to tour our stunning model home between plays. Whether you’re here for the game\, the home\, or just the good vibes — everyone’s welcome! \nWings and refreshments will be served. \n\nCommunity Events are open to the public. To see all events\, please visit our Events page. 
URL:https://brohnhomes.com/event/touchdown-and-tour-cloverleaf/
LOCATION:Cloverleaf\, 11308 Comano Drive\, Austin\, TX\, 78747\, United States
CATEGORIES:Community Events
ATTACH;FMTTYPE=image/jpeg:https://brohnhomes.com/wp-content/uploads/2025/10/Brohn-Homes-Cloverleaf-Touchdown-and-Tour-102625.jpg
END:VEVENT
BEGIN:VEVENT
DTSTART;TZID=America/Chicago:20251028T130000
DTEND;TZID=America/Chicago:20251028T150000
DTSTAMP:20260423T105119
CREATED:20251017T203334Z
LAST-MODIFIED:20251022T124352Z
UID:27524-1761656400-1761663600@brohnhomes.com
SUMMARY:Network and Craft - Casetta Ranch
DESCRIPTION:Join the team on October 28\, 2025\, at Casetta Ranch for an exclusive Realtor event! Bring a bit of creativity\, and we’ll supply the rest. Enjoy painting glass pumpkin candy dishes while networking and learning about what Brohn and Casetta Ranch has to offer. Spots are limited\, RSVP today! \nRefreshments will be served. \n\nTopAgent Events are exclusively for Realtors. Haven’t worked with Brohn yet? We’d love to have you join the Brohn Family; learn more about selling with Brohn on our Agents page.To see all events\, including Community Events\, please visit our Events page. 
URL:https://brohnhomes.com/event/network-and-craft-casetta-ranch/
LOCATION:Casetta Ranch Sales Office\, 182 Hortus Dr\, Kyle\, TX\, 78640\, United States
CATEGORIES:Top Agent
ATTACH;FMTTYPE=image/jpeg:https://brohnhomes.com/wp-content/uploads/2025/10/Brohn-Homes-Casetta-Network-and-Craft-1.jpg
END:VEVENT
END:VCALENDAR