BEGIN:VCALENDAR
VERSION:2.0
PRODID:-//Brohn Homes - ECPv6.15.20//NONSGML v1.0//EN
CALSCALE:GREGORIAN
METHOD:PUBLISH
X-ORIGINAL-URL:https://brohnhomes.com
X-WR-CALDESC:Events for Brohn Homes
REFRESH-INTERVAL;VALUE=DURATION:PT1H
X-Robots-Tag:noindex
X-PUBLISHED-TTL:PT1H
BEGIN:VTIMEZONE
TZID:America/Chicago
BEGIN:DAYLIGHT
TZOFFSETFROM:-0600
TZOFFSETTO:-0500
TZNAME:CDT
DTSTART:20240310T080000
END:DAYLIGHT
BEGIN:STANDARD
TZOFFSETFROM:-0500
TZOFFSETTO:-0600
TZNAME:CST
DTSTART:20241103T070000
END:STANDARD
BEGIN:DAYLIGHT
TZOFFSETFROM:-0600
TZOFFSETTO:-0500
TZNAME:CDT
DTSTART:20250309T080000
END:DAYLIGHT
BEGIN:STANDARD
TZOFFSETFROM:-0500
TZOFFSETTO:-0600
TZNAME:CST
DTSTART:20251102T070000
END:STANDARD
BEGIN:DAYLIGHT
TZOFFSETFROM:-0600
TZOFFSETTO:-0500
TZNAME:CDT
DTSTART:20260308T080000
END:DAYLIGHT
BEGIN:STANDARD
TZOFFSETFROM:-0500
TZOFFSETTO:-0600
TZNAME:CST
DTSTART:20261101T070000
END:STANDARD
END:VTIMEZONE
BEGIN:VEVENT
DTSTART;TZID=America/Chicago:20250903T140000
DTEND;TZID=America/Chicago:20250903T160000
DTSTAMP:20260425T065308
CREATED:20250814T145657Z
LAST-MODIFIED:20250827T171012Z
UID:25681-1756908000-1756915200@brohnhomes.com
SUMMARY:Make Your Own Charcuterie Board - Cross Creek
DESCRIPTION:Charcuterie boards are a functional and beautiful way to impress friends\, family\, and even your buyers! Have you ever seen an amazing spread and thought\, “I can do that”\, but have no idea how to start? Join Graze by Lex as she walks you through understanding components\, building a balanced board\, and even pairing suggestions. This is a hands-on event\, you will be provided with a selection of meats\, cheeses\, and accompaniments\, boards and serving tools for class use\, as well as an ingredient list and pairing guide to take home. \nAfterwards\, stay and explore our beautiful Cross Creek community. Our gorgeous model and inventory homes are open to tour\, and our sales team will be available to discuss fantastic buyer incentives and rewards for you as a realtor! \nSpots are limited\, RSVP to secure yours! \nSpecial thanks to our host and teacher\, Graze by Lex\, and our event co-sponsor CMG Home Loans. \nInterested in this event\, but unable to attend? Our Casetta Ranch team is pairing up with Graze by Lex to host another event on September 24\, 2025. Learn more and RSVP here! \nTopAgent Events are exclusively for Realtors. Haven’t worked with Brohn yet? We’d love to have you join the Brohn Family; learn more about selling with Brohn on our Agents page.\nTo see all events\, including Community Events\, please visit our Events page. 
URL:https://brohnhomes.com/event/make-your-own-charcuterie-board-cross-creek/
LOCATION:Cross Creek\, 600 C-Bar Ranch Trl. Unit 99\, Cedar Park\, TX\, 78613\, United States
CATEGORIES:Top Agent
ATTACH;FMTTYPE=image/jpeg:https://brohnhomes.com/wp-content/uploads/2025/08/Brohn-Homes-Make-Your-Own-Charcuterie-Board-.jpg
END:VEVENT
BEGIN:VEVENT
DTSTART;TZID=America/Chicago:20250907T120000
DTEND;TZID=America/Chicago:20250907T160000
DTSTAMP:20260425T065308
CREATED:20250829T185816Z
LAST-MODIFIED:20250829T185816Z
UID:26341-1757246400-1757260800@brohnhomes.com
SUMMARY:Touchdown on Totley
DESCRIPTION:Wings\, football\, community! Kick off football season with your neighbors\, friends\, and family on Sunday\, September 07\, 2025 from 12 PM to 4 PM at Brohn Homes Edgebrooke. \nWings and refreshments will be served. \n\nCommunity Events are open to the public. To see all events\, please visit our Events page. 
URL:https://brohnhomes.com/event/touchdown-on-totley/
LOCATION:Edgebrooke Sales Office\, 2714 Totley Rd.\, Pflugerville\, TX\, 78660\, United States
CATEGORIES:Community Events
ATTACH;FMTTYPE=image/jpeg:https://brohnhomes.com/wp-content/uploads/2025/08/Brohn-Homes-Edgebrooke-Touchdown-on-Totley-090725.jpg
END:VEVENT
BEGIN:VEVENT
DTSTART;TZID=America/Chicago:20250911T090000
DTEND;TZID=America/Chicago:20250911T130000
DTSTAMP:20260425T065308
CREATED:20250604T190549Z
LAST-MODIFIED:20250703T164348Z
UID:23020-1757581200-1757595600@brohnhomes.com
SUMMARY:Brohn Does Good at Crowe's Nest Farm
DESCRIPTION:A Brohn Does Good Day – Brohn Homes team gather at Crowe’s Nest Farm for a volunteer opportunity. Engage with peers from across the company and new animal friends while helping with gardening and landscaping around the farm. Closed-toe shoes are required\, work/gardening gloves are a plus. \n“Crowe’s Nest Farm is a 501(c)3 non-profit educational organization dedicated to fostering public appreciation\, knowledge\, and wise stewardship of the agricultural and wildlife resources of Texas.” For more information on Crowe’s Nest Farm\, visit their website. \nBrohn Does Good Days Events are exclusively for Brohn Homes employees. To see all events\, including TopAgent and Community Events\, please visit our Events page.
URL:https://brohnhomes.com/event/brohn-does-good-at-crowes-nest-farm/
LOCATION:Crowe’s Nest Farm\, 10300 Taylor Ln.\, Manor\, 78653\, United States
CATEGORIES:Brohn Does Good
ATTACH;FMTTYPE=image/jpeg:https://brohnhomes.com/wp-content/uploads/2025/06/Brohn-Does-Good-Day-Crowes-Nest-Farm.jpg
END:VEVENT
BEGIN:VEVENT
DTSTART;TZID=America/Chicago:20250911T090000
DTEND;TZID=America/Chicago:20250911T130000
DTSTAMP:20260425T065308
CREATED:20250915T153157Z
LAST-MODIFIED:20250915T153157Z
UID:26525-1757581200-1757595600@brohnhomes.com
SUMMARY:Brohn Does Good at Helping Hand Home
DESCRIPTION:A Brohn Does Good Day – Brohn Homes is joining Helping Hands Home to provide a safe and fun trick-or-treating experience for 40+ children. Come out and show how Brohn not only builds homes\, we build communities and trust. \n“Helping Hand Home is the oldest continuously operating residential childcare agency in Travis County and a priceless resource kept strong and viable through community support. Helping Hand Home for Children provides a safe haven for children healing from…abuse\, neglect or abandonment.” For more information on Helping Hands Home\, visit their website. \nBrohn Does Good Days Events are exclusively for Brohn Homes employees. To see all events\, including TopAgent and Community Events\, please visit our Events page.
URL:https://brohnhomes.com/event/brohn-does-good-at-helping-hand-home/
LOCATION:Helping Hand Home\, 3804 Avenue B\, Austin\, TX\, 78751\, United States
CATEGORIES:Brohn Does Good
ATTACH;FMTTYPE=image/jpeg:https://brohnhomes.com/wp-content/uploads/2025/09/Brohn-Does-Good-Day-Helping-Hand-Home.jpg
END:VEVENT
BEGIN:VEVENT
DTSTART;TZID=America/Chicago:20250917T120000
DTEND;TZID=America/Chicago:20250917T140000
DTSTAMP:20260425T065308
CREATED:20250814T194200Z
LAST-MODIFIED:20250909T160824Z
UID:25721-1758110400-1758117600@brohnhomes.com
SUMMARY:Realtor Pop-By Mini Workshop
DESCRIPTION:“Hey\, just wanted to pop by and see how you’re doing.” At home\, at work\, and with buyers (current and future)\, it’s always nice when someone pops by and checks on you. And as a Realtor\, it helps keep you front of mind\, especially with buyers that weren’t quite ready last time you talked\, or maybe you had a great experience and you’re looking to get referrals. \nCome by any Brohn Homes Model on Wednesday\, September 17\, 2025\, for a hands-on Pop-By Mini Workshop. Learn how to make pop-bys work for you and assemble monthly themed pop-bys for Q4. Materials will be provided! \n\nCascade – 104 Spokeshave Ln.\, Liberty Hill\, TX 78642\nCasetta Ranch – 182 Hortus Dr.\, Kyle\, TX 78640\nClear Creek – 2605 Sam Bass Rd. #17\, Round Rock\, TX 78681\nCloverleaf – 11308 Comano Dr.\, Austin\, TX 78747\nCross Creek – 600 C-Bar Ranch Trl. Unit 99\, Cedar Park\, TX 78634\nEdgebrooke – 2714 Totley Rd.\, Pflugerville\, TX 78660\nHarvest Ridge – 103 Roost Rd.\, Elgin\, TX 78621\nHymeadow – 441 Delta Crest\, Maxwell\, TX 78656\nOaks at San Gabriel – 1229 Terrace View Dr.\, Georgetown\, TX 78628\n\nTopAgent Events are exclusively for Realtors. Haven’t worked with Brohn yet? We’d love to have you join the Brohn Family; learn more about selling with Brohn on our Agents page.\nTo see all events\, including Community Events\, please visit our Events page. 
URL:https://brohnhomes.com/event/realtor-pop-by-mini-workshop/
CATEGORIES:Top Agent
ATTACH;FMTTYPE=image/jpeg:https://brohnhomes.com/wp-content/uploads/2025/08/Brohn-Homes-Realtor-Pop-By-091725-1-1.jpg
END:VEVENT
BEGIN:VEVENT
DTSTART;TZID=America/Chicago:20250924T140000
DTEND;TZID=America/Chicago:20250924T160000
DTSTAMP:20260425T065308
CREATED:20250827T171012Z
LAST-MODIFIED:20250827T182642Z
UID:26176-1758722400-1758729600@brohnhomes.com
SUMMARY:Make Your Own Charcuterie Board - Casetta Ranch
DESCRIPTION:Charcuterie boards are a functional and beautiful way to impress friends\, family\, and even your buyers! Have you ever seen an amazing spread and thought\, “I can do that”\, but have no idea how to start? Join Graze by Lex as she walks you through understanding components\, building a balanced board\, and even pairing suggestions. This is a hands-on event\, you will be provided with a selection of meats\, cheeses\, and accompaniments\, boards and serving tools for class use\, as well as an ingredient list and pairing guide to take home. \nAfterwards\, stay and explore our wonderful Casetta Ranch community. Our model and inventory homes are open to tour\, and our sales team will be available to discuss fantastic buyer incentives and rewards for you as a realtor! \nSpots are limited\, RSVP to secure yours! \nSpecial thanks to our host and teacher\, Graze by Lex\, and our event co-sponsor CMG Home Loans. \nInterested in this event\, but unable to attend? Our Cross Creek team is pairing up with Graze by Lex to host an event on September 03\, 2025. Learn more and RSVP here! \nTopAgent Events are exclusively for Realtors. Haven’t worked with Brohn yet? We’d love to have you join the Brohn Family; learn more about selling with Brohn on our Agents page.\nTo see all events\, including Community Events\, please visit our Events page. 
URL:https://brohnhomes.com/event/make-your-own-charcuterie-board-casetta-ranch/
LOCATION:Casetta Ranch Sales Office\, 182 Hortus Dr\, Kyle\, TX\, 78640\, United States
CATEGORIES:Top Agent
ATTACH;FMTTYPE=image/jpeg:https://brohnhomes.com/wp-content/uploads/2025/08/Brohn-Homes-Make-Your-Own-Charcuterie-Board-.jpg
END:VEVENT
BEGIN:VEVENT
DTSTART;TZID=America/Chicago:20250930T113000
DTEND;TZID=America/Chicago:20250930T133000
DTSTAMP:20260425T065308
CREATED:20250828T161023Z
LAST-MODIFIED:20250828T161210Z
UID:26295-1759231800-1759239000@brohnhomes.com
SUMMARY:Reel-y Engaging Social Media Workshop for Realtors
DESCRIPTION:Is your feed full of reels that make you laugh\, say\, “that’s so me”\, or make you stop and watch over and over? Social media is a great way to connect with fellow agents\, new and prospective buyers\, or friends and family. But how can you create content that people will engage with? \nIf you’re a realtor looking to gain comments\, likes\, and shares\, join us at Brohn Homes Clear Creek on Tuesday\, September 30\, 2025\, as we go through the basics of creating “Reel-y Engaging” social media videos. We’ll start from the top with tips to successfully record quality content and walk through editing and posting. Whether your social media is up and running or you’re starting fresh\, join us as we connect with other realtors\, share ideas\, and learn more in our Social Media Workshop. \nAfterwards\, stay and explore our beautiful Clear Creek model and available new construction inventory\, and learn about our incredible buyer incentives and what we can do for you as a realtor! \nTopAgent Events are exclusively for Realtors. Haven’t worked with Brohn yet? We’d love to have you join the Brohn Family; learn more about selling with Brohn on our Agents page.\nTo see all events\, including Community Events\, please visit our Events page. 
URL:https://brohnhomes.com/event/realtors-reel-y-engaging-social-media-workshop/
LOCATION:Clear Creek Sales Office\, 2605 Sam Bass Road #17\, Round Rock\, TX\, 78681
CATEGORIES:Top Agent
ATTACH;FMTTYPE=image/jpeg:https://brohnhomes.com/wp-content/uploads/2025/08/Brohn-Homes-Clear-Creek-Social-Media-Workshop-093025.jpg
END:VEVENT
END:VCALENDAR