BEGIN:VCALENDAR
VERSION:2.0
PRODID:-//Brohn Homes - ECPv6.15.20//NONSGML v1.0//EN
CALSCALE:GREGORIAN
METHOD:PUBLISH
X-WR-CALNAME:Brohn Homes
X-ORIGINAL-URL:https://brohnhomes.com
X-WR-CALDESC:Events for Brohn Homes
REFRESH-INTERVAL;VALUE=DURATION:PT1H
X-Robots-Tag:noindex
X-PUBLISHED-TTL:PT1H
BEGIN:VTIMEZONE
TZID:America/Chicago
BEGIN:DAYLIGHT
TZOFFSETFROM:-0600
TZOFFSETTO:-0500
TZNAME:CDT
DTSTART:20240310T080000
END:DAYLIGHT
BEGIN:STANDARD
TZOFFSETFROM:-0500
TZOFFSETTO:-0600
TZNAME:CST
DTSTART:20241103T070000
END:STANDARD
BEGIN:DAYLIGHT
TZOFFSETFROM:-0600
TZOFFSETTO:-0500
TZNAME:CDT
DTSTART:20250309T080000
END:DAYLIGHT
BEGIN:STANDARD
TZOFFSETFROM:-0500
TZOFFSETTO:-0600
TZNAME:CST
DTSTART:20251102T070000
END:STANDARD
BEGIN:DAYLIGHT
TZOFFSETFROM:-0600
TZOFFSETTO:-0500
TZNAME:CDT
DTSTART:20260308T080000
END:DAYLIGHT
BEGIN:STANDARD
TZOFFSETFROM:-0500
TZOFFSETTO:-0600
TZNAME:CST
DTSTART:20261101T070000
END:STANDARD
END:VTIMEZONE
BEGIN:VEVENT
DTSTART;TZID=America/Chicago:20250804T140000
DTEND;TZID=America/Chicago:20250804T160000
DTSTAMP:20260423T102445
CREATED:20250722T161339Z
LAST-MODIFIED:20250722T202210Z
UID:24753-1754316000-1754323200@brohnhomes.com
SUMMARY:Be A Champion For Your Buyers
DESCRIPTION:Realtors\, are you looking for another way to be a resource for your buyers? Join our Brohn Homes Casetta Ranch team and CMG Financial as we discuss ways for you to be a champion for your buyer. We are here to empower YOU with the information and resources needed to help buyers make the dream of homeownership a reality. Loan programs\, down payment assistance\, flex cash options\, and more! We’re here to inform you and answer your questions about what is available out there. \n\nLearn about offers exclusive to Brohn Homes and CMG Financial\nExplore options to save your buyers money short and long-term\nExplore what’s available at Casetta Ranch\n\nTopAgent Events are exclusively for Realtors. Haven’t worked with Brohn yet? We’d love to have you join the Brohn Family; learn more about selling with Brohn on our Agents page.\nTo see all events\, including Community Events\, please visit our Events page. 
URL:https://brohnhomes.com/event/be-a-champion-for-your-buyers/
LOCATION:Casetta Ranch Sales Office\, 182 Hortus Dr\, Kyle\, TX\, 78640\, United States
CATEGORIES:Top Agent
ATTACH;FMTTYPE=image/jpeg:https://brohnhomes.com/wp-content/uploads/2025/07/Be-A-Champion-080425.jpg
END:VEVENT
BEGIN:VEVENT
DTSTART;TZID=America/Chicago:20250816T110000
DTEND;TZID=America/Chicago:20250816T150000
DTSTAMP:20260423T102445
CREATED:20250725T200015Z
LAST-MODIFIED:20250801T174750Z
UID:24902-1755342000-1755356400@brohnhomes.com
SUMMARY:Harvest Ridge Back to School Party & Supply Drive
DESCRIPTION:Students\, families\, and community members – school starts August 13\, and we’re celebrating the start of the new year with a Back to School Party! Together with the PTAs from BTW\, Harvest Ridge\, and Neidig Elementary Schools\, meet new friends\, reconnect with classmates\, and get ready for an amazing school year. Looking for a way to help support? We will have school supply donation bins around town. Click here to view this year’s school supply list from EISD. See below for a list of drop-off locations. \nActivities and Partners: \n\nHair Trims – Color Works\, Key Elevation Luxury Cuts\nMini Manicures and Face Painting (Donation Based) – Texas Ultimate Cheer & Tumble\nArcade Games – Neon City Arcade\nLive DJ\nFun Photo Op\nCareer & Community Connections –\n\nElevate Fitness\, Savannah\nElgin Fire Department\nElgin Police Department\n\n\n\nSchool Supply Drive Drop-Offs August 2 through August 16: \n\nMeyer’s Elgin Smokehouse – 188 US-290\, Elgin\, TX 78621\nChemn Cafe – 114 N Main St.\, Elgin\, TX 78621\nKey Elevation Luxury Cuts – 111 W 2nd St.\, Elgin\, TX 78621\nBrohn Homes Harvest Ridge Sales Office – 103 Roost Rd.\, Elgin\, TX 78621\n\nCommunity Events are open to the public. To see all events\, please visit our Events page. 
URL:https://brohnhomes.com/event/harvest-ridge-back-to-school-party/
LOCATION:Harvest Ridge Elementary School\, 338 Harvest Ridge Blvd.\, Elgin\, TX\, 78621\, United States
CATEGORIES:Community Events
ATTACH;FMTTYPE=image/jpeg:https://brohnhomes.com/wp-content/uploads/2025/07/Brohn-Homes-Harvest-Ridge-Back-to-School-Party-081625.jpg
END:VEVENT
BEGIN:VEVENT
DTSTART;VALUE=DATE:20250819
DTEND;VALUE=DATE:20250827
DTSTAMP:20260423T102445
CREATED:20250728T162900Z
LAST-MODIFIED:20250818T225200Z
UID:24910-1755561600-1756252799@brohnhomes.com
SUMMARY:Brohn Homes Dog Days of Summer 2025
DESCRIPTION:🐾 Dog Days of Summer at Brohn Homes 🐾\nCelebrate your pup and show off your photography skills for your chance to win big!\nWe’re turning up the fun this August with our Dog Days of Summer celebration! All month long\, enjoy great savings on new homes AND from August 19-26\, special treats for your furry friends at any Brohn Homes model. Stop by for complimentary pup cups\, Brohn doggy swag\, and more! \n\nCasetta Ranch – 182 Hortus Dr.\, Kyle\, TX 78640\nClear Creek – 2605 Sam Bass Rd. #17\, Round Rock\, TX 78681\nCloverleaf – 11308 Comano Dr.\, Austin\, TX 78747\nCross Creek – 600 C-Bar Ranch Trl. Unit 99\, Cedar Park\, TX 78634\nEdgebrooke – 2714 Totley Rd.\, Pflugerville\, TX 78660\nHarvest Ridge – 103 Roost Rd.\, Elgin\, TX 78621\nHymeadow – 441 Delta Crest\, Maxwell\, TX 78656\nOaks at San Gabriel – 1229 Terrace View Dr.\, Georgetown\, TX 78628\n\nNational Dog Day Photo Contest\nIn honor of National Photography Day (Aug 19) and National Dog Day (Aug 26)\, we’re hosting a Paw-some Photo Contest — and one lucky winner will take home a gift basket valued at over $500! \nHow to Enter:\n\nSnap a photo of your pet between August 19 and 26\, 2025.\nPost the photo on Instagram or Facebook.\nTag Brohn Homes AND use #BrohnPhotoContest.\nYour pet must be:\n\nAt their favorite spot in any Brohn Homes community in Greater Austin\,\nInside a Brohn Home\, OR\nRocking our Brohn doggy swag\n\n\n\nImportant Details:\n\nEach tagged post = 1 entry\nEach like your photo receives = 1 bonus entry\nSo\, share your post with friends and family to boost your chances!\nThe winner will be announced on August 27\, 2025!\n\nContest Disclaimer: By participating in the #BrohnPhotoContest\, entrants grant Brohn Homes the right to use submitted photos in future marketing\, social media\, and promotional materials. Entrants must have a public profile at the time of entry for submission to be visible and counted. Multiple entries allowed\, but each photo must be unique. Bonus entries for likes will be tallied based on the total number of likes received by 11:59 PM CST on August 26\, 2025. This contest is in no way sponsored\, endorsed\, administered by\, or associated with Instagram or Facebook. No purchase necessary to enter or win. The winner will be randomly selected from all eligible entries and contacted via DM. The contest is open to Texas residents 18 years or older. Brohn Homes team members and their immediate family are not eligible to win\, but are able to join in on the fun. The gift basket is not transferable or redeemable for cash. Void where prohibited.
URL:https://brohnhomes.com/event/brohn-homes-dog-days-of-summer-2025/
CATEGORIES:Community Events
ATTACH;FMTTYPE=image/jpeg:https://brohnhomes.com/wp-content/uploads/2025/07/Brohn-Homes-Dog-Days-of-Summer-August-2025.jpg
END:VEVENT
BEGIN:VEVENT
DTSTART;TZID=America/Chicago:20250821T090000
DTEND;TZID=America/Chicago:20250821T133000
DTSTAMP:20260423T102445
CREATED:20250613T143030Z
LAST-MODIFIED:20250619T162103Z
UID:23284-1755766800-1755783000@brohnhomes.com
SUMMARY:Brohn Does Good at The Charlie Center
DESCRIPTION:A Brohn Does Good Day – Brohn Homes team meet up at The Charlie Center to serve lunch and host a popsicle stand for our neighbors experiencing homelessness. \n“The Charlie Center meets physical needs through hospitality and healthcare and provides navigation services to help individuals take their next step toward permanent housing.” To learn more about The Charlie Center\, visit their website. \nBrohn Does Good Days Events are exclusively for Brohn Homes employees. To see all events\, including TopAgent and Community Events\, please visit our Events page.
URL:https://brohnhomes.com/event/brohn-does-good-at-the-charlie-center/
LOCATION:The Charlie Center\, 12675 Research Blvd.\, Austin\, TX\, 78759\, United States
CATEGORIES:Brohn Does Good
ATTACH;FMTTYPE=image/jpeg:https://brohnhomes.com/wp-content/uploads/2025/06/Brohn-Does-Good-Day-The-Charlie-Center-1.jpg
END:VEVENT
BEGIN:VEVENT
DTSTART;TZID=America/Chicago:20250826T180000
DTEND;TZID=America/Chicago:20250826T200000
DTSTAMP:20260423T102445
CREATED:20250702T181311Z
LAST-MODIFIED:20250702T181420Z
UID:24072-1756231200-1756238400@brohnhomes.com
SUMMARY:Edgebrooke - Path to Home: Homeownership Workshop
DESCRIPTION:Calling All New Home Buyers – Turn your home buying fears into empowerment. Contracts\, credit scores\, closing\, and everything in between\, we’re bringing along our partner lender to help answer your biggest questions about home buying. Spots are limited – Be sure to RSVP! \n\nMeet with a Brohn salesperson and CMG Financial representative\nLearn about the home buying process and ask questions along the way\nReceive a take home resource to help your journey\n\nRefreshments will be served. \n\nCommunity Events are open to the public. To see all events\, please visit our Events page. 
URL:https://brohnhomes.com/event/edgebrooke-path-to-home/
LOCATION:Edgebrooke Sales Office\, 2714 Totley Rd.\, Pflugerville\, TX\, 78660\, United States
CATEGORIES:Community Events
ATTACH;FMTTYPE=image/jpeg:https://brohnhomes.com/wp-content/uploads/2025/04/Buyers-Club-Title-1.jpg
END:VEVENT
END:VCALENDAR