BEGIN:VCALENDAR
VERSION:2.0
PRODID:-//Brohn Homes - ECPv6.15.20//NONSGML v1.0//EN
CALSCALE:GREGORIAN
METHOD:PUBLISH
X-WR-CALNAME:Brohn Homes
X-ORIGINAL-URL:https://brohnhomes.com
X-WR-CALDESC:Events for Brohn Homes
REFRESH-INTERVAL;VALUE=DURATION:PT1H
X-Robots-Tag:noindex
X-PUBLISHED-TTL:PT1H
BEGIN:VTIMEZONE
TZID:America/Chicago
BEGIN:DAYLIGHT
TZOFFSETFROM:-0600
TZOFFSETTO:-0500
TZNAME:CDT
DTSTART:20240310T080000
END:DAYLIGHT
BEGIN:STANDARD
TZOFFSETFROM:-0500
TZOFFSETTO:-0600
TZNAME:CST
DTSTART:20241103T070000
END:STANDARD
BEGIN:DAYLIGHT
TZOFFSETFROM:-0600
TZOFFSETTO:-0500
TZNAME:CDT
DTSTART:20250309T080000
END:DAYLIGHT
BEGIN:STANDARD
TZOFFSETFROM:-0500
TZOFFSETTO:-0600
TZNAME:CST
DTSTART:20251102T070000
END:STANDARD
BEGIN:DAYLIGHT
TZOFFSETFROM:-0600
TZOFFSETTO:-0500
TZNAME:CDT
DTSTART:20260308T080000
END:DAYLIGHT
BEGIN:STANDARD
TZOFFSETFROM:-0500
TZOFFSETTO:-0600
TZNAME:CST
DTSTART:20261101T070000
END:STANDARD
END:VTIMEZONE
BEGIN:VEVENT
DTSTART;TZID=America/Chicago:20250711T084500
DTEND;TZID=America/Chicago:20250711T113000
DTSTAMP:20260425T065051
CREATED:20250613T141609Z
LAST-MODIFIED:20250613T141609Z
UID:23280-1752223500-1752233400@brohnhomes.com
SUMMARY:Brohn Does Good at Central Texas Food Bank
DESCRIPTION:A Brohn Does Good Day – Brohn Homes team\, come together at Central Texas Food Bank to help prepare food in their Community Kitchen. Spend the morning with peers across the community while providing a service for the community. \nCentral Texas Food Bank is a 501(c)3 non-profit providing hunger relief for 21 counties in Central Texas. For more information on Central Texas Food Bank\, visit their website. \nBrohn Does Good Days Events are exclusively for Brohn Homes employees. To see all events\, including TopAgent and Community Events\, please visit our Events page.
URL:https://brohnhomes.com/event/brohn-does-good-at-central-texas-food-bank/
LOCATION:Central Texas Food Bank\, 6500 Metropolis Dr.\, Ausitn\, TX\, 78744\, United States
CATEGORIES:Brohn Does Good
ATTACH;FMTTYPE=image/jpeg:https://brohnhomes.com/wp-content/uploads/2025/06/Brohn-Does-Good-Day-Central-Texas-Food-Bank.jpg
END:VEVENT
BEGIN:VEVENT
DTSTART;TZID=America/Chicago:20250715T120000
DTEND;TZID=America/Chicago:20250715T140000
DTSTAMP:20260425T065051
CREATED:20250627T132037Z
LAST-MODIFIED:20250630T141617Z
UID:23698-1752580800-1752588000@brohnhomes.com
SUMMARY:Realtor Headshots at Hymeadow
DESCRIPTION:Missing a headshot? Using a blurry selfie or picture with a busy background? From social media\, LinkedIn\, marketing materials\, and more\, a headshot helps create a personal connection with those who see you. Stop by the Brohn Homes Sales Office in Hymeadow on Tuesday\, July 15\, 2025 to receive a complimentary\, professional headshot from Jimmy de Leon. \nSpots are limited\, RSVP below to claim yours! \nTopAgent Events are exclusively for Realtors. Haven’t worked with Brohn yet? We’d love to have you join the Brohn Family; learn more about selling with Brohn on our Agents page.\nTo see all events\, including Community Events\, please visit our Events page.  \n 
URL:https://brohnhomes.com/event/realtor-headshots-at-hymeadow/
LOCATION:Hymeadow Sales Office\, 441 Delta Crest\, Maxwell\, 78656
CATEGORIES:Top Agent
ATTACH;FMTTYPE=image/jpeg:https://brohnhomes.com/wp-content/uploads/2025/06/Realtor-Headshot-Hymeadow-071525.jpg
END:VEVENT
BEGIN:VEVENT
DTSTART;TZID=America/Chicago:20250717T140000
DTEND;TZID=America/Chicago:20250717T160000
DTSTAMP:20260425T065051
CREATED:20250610T134134Z
LAST-MODIFIED:20250707T210104Z
UID:23137-1752760800-1752768000@brohnhomes.com
SUMMARY:TopAgent Happy Hour Celebration
DESCRIPTION:Calling all TopAgents – We’re halfway through 2025\, let’s raise a glass and celebrate together Christmas in July style! Enjoy food\, drinks\, and raffle prizes while networking with our superb sales team\, financial partners\, and fellow Realtors. \nTopAgent Events are exclusively for Realtors. Haven’t worked with Brohn yet? We’d love to have you join the Brohn Family; learn more about selling with Brohn on our Agents page.\nTo see all events\, including Community Events\, please visit our Events page. 
URL:https://brohnhomes.com/event/topagent-happy-hour-q3-2025/
LOCATION:Hold Out Brewing\, 1208 W 4th St.\, Austin\, TX\, 78703\, United States
CATEGORIES:Top Agent
ATTACH;FMTTYPE=image/jpeg:https://brohnhomes.com/wp-content/uploads/2025/06/Brohn-Homes-TopAgent-Happy-Hour-071725-2.jpg
END:VEVENT
BEGIN:VEVENT
DTSTART;VALUE=DATE:20250719
DTEND;VALUE=DATE:20250720
DTSTAMP:20260425T065051
CREATED:20250627T195753Z
LAST-MODIFIED:20250717T153023Z
UID:23615-1752883200-1752969599@brohnhomes.com
SUMMARY:National Ice Cream Day at Brohn Homes
DESCRIPTION:Texas Summer is here in full force\, and we’re here to help you cool off in celebration of National Ice Cream Day. And we’re so excited\, we’re getting together a day early! Visit any Brohn Homes Sales Office on Saturday\, July 19\, 2025 to enjoy an ice cream treat. Not yet part of the Brohn Homes family? While you’re there\, learn more about our communities\, homes\, and amazing incentives. See you soon! \nCommunity Events are open to the public. To see all events\, please visit our Events page.  \nCasetta Ranch – 182 Hortus Dr.\, Kyle\, TX 78640\nClear Creek – 2605 Sam Bass Rd. #17\, Round Rock\, TX 78681\nCloverleaf – 11308 Comano Dr.\, Austin\, TX 78747\nCross Creek – 600 C-Bar Ranch Trl. Unit 99\, Cedar Park\, TX 78634\nEdgebrooke – 2714 Totley Rd.\, Pflugerville\, TX 78660\nHarvest Ridge – 103 Roost Rd.\, Elgin\, TX 78621\nHymeadow – 441 Delta Crest\, Maxwell\, TX 78656\nOaks at San Gabriel – 1229 Terrace View Dr.\, Georgetown\, TX 78628
URL:https://brohnhomes.com/event/national-ice-cream-day-at-brohn-homes/
ATTACH;FMTTYPE=image/jpeg:https://brohnhomes.com/wp-content/uploads/2025/06/National-Ice-Cream-Day-at-Brohn-071925.jpg
END:VEVENT
BEGIN:VEVENT
DTSTART;TZID=America/Chicago:20250723T153000
DTEND;TZID=America/Chicago:20250723T173000
DTSTAMP:20260425T065051
CREATED:20250609T161323Z
LAST-MODIFIED:20250625T210505Z
UID:23095-1753284600-1753291800@brohnhomes.com
SUMMARY:Realtor Happy Hour with Your Edgebrooke Team
DESCRIPTION:Phase 2 of Edgebrooke is open\, and we’re ready to celebrate with our amazing Realtors! Join your Edgebrooke sales team for a happy hour at Old Gregg Brewing in Pflugerville. Network\, relax\, and learn about our amazing community and incentives. \nTopAgent Events are exclusively for Realtors. Haven’t worked with Brohn yet? We’d love to have you join the Brohn Family; learn more about selling with Brohn on our Agents page.\nTo see all events\, including Community Events\, please visit our Events page.  \n 
URL:https://brohnhomes.com/event/realtor-happy-hour-with-your-edgebrooke-team/
LOCATION:Old Gregg Brewing\, 1900 E Howard Ln. Building H\, Pflugerville\, TX\, 78660\, United States
CATEGORIES:Top Agent
ATTACH;FMTTYPE=image/jpeg:https://brohnhomes.com/wp-content/uploads/2025/06/Realtor-Happy-Hour-Edgebrooke-062325.jpg
END:VEVENT
BEGIN:VEVENT
DTSTART;VALUE=DATE:20250726
DTEND;VALUE=DATE:20250727
DTSTAMP:20260425T065051
CREATED:20250623T191725Z
LAST-MODIFIED:20250721T185718Z
UID:23618-1753488000-1753574399@brohnhomes.com
SUMMARY:Christmas in July at Brohn Homes
DESCRIPTION:We’re halfway to Christmas and we can’t wait any longer! Join Brohn Homes to enjoy Christmas in July. We’re bringing summer treats\, “snowball” fights\, and cookie decorating to all of our Brohn Homes Sales Offices. Bring the family\, meet your neighbors\, and help support our toy drive for the Ronald McDonald House of Central Texas. Not yet part of the Brohn Homes family? While you’re there\, learn more about our communities\, homes\, and amazing incentives. See you soon! \nCommunity Events are open to the public. To see all events\, please visit our Events page.  \nCasetta Ranch – 182 Hortus Dr.\, Kyle\, TX 78640\nClear Creek – 2605 Sam Bass Rd. #17\, Round Rock\, TX 78681\nCloverleaf – 11308 Comano Dr.\, Austin\, TX 78747\nCross Creek – 600 C-Bar Ranch Trl. Unit 99\, Cedar Park\, TX 78634\nEdgebrooke – 2714 Totley Rd.\, Pflugerville\, TX 78660\nHarvest Ridge – 103 Roost Rd.\, Elgin\, TX 78621\nHymeadow – 441 Delta Crest\, Maxwell\, TX 78656\nOaks at San Gabriel – 1229 Terrace View Dr.\, Georgetown\, TX 78628
URL:https://brohnhomes.com/event/christmas-in-july-at-brohn-homes/
CATEGORIES:Community Events
ATTACH;FMTTYPE=image/jpeg:https://brohnhomes.com/wp-content/uploads/2025/06/Christmas-in-July-at-Brohn-072625-3.jpg
END:VEVENT
END:VCALENDAR