BEGIN:VCALENDAR
VERSION:2.0
PRODID:-//Brohn Homes - ECPv6.15.20//NONSGML v1.0//EN
CALSCALE:GREGORIAN
METHOD:PUBLISH
X-ORIGINAL-URL:https://brohnhomes.com
X-WR-CALDESC:Events for Brohn Homes
REFRESH-INTERVAL;VALUE=DURATION:PT1H
X-Robots-Tag:noindex
X-PUBLISHED-TTL:PT1H
BEGIN:VTIMEZONE
TZID:America/Chicago
BEGIN:DAYLIGHT
TZOFFSETFROM:-0600
TZOFFSETTO:-0500
TZNAME:CDT
DTSTART:20230312T080000
END:DAYLIGHT
BEGIN:STANDARD
TZOFFSETFROM:-0500
TZOFFSETTO:-0600
TZNAME:CST
DTSTART:20231105T070000
END:STANDARD
BEGIN:DAYLIGHT
TZOFFSETFROM:-0600
TZOFFSETTO:-0500
TZNAME:CDT
DTSTART:20240310T080000
END:DAYLIGHT
BEGIN:STANDARD
TZOFFSETFROM:-0500
TZOFFSETTO:-0600
TZNAME:CST
DTSTART:20241103T070000
END:STANDARD
BEGIN:DAYLIGHT
TZOFFSETFROM:-0600
TZOFFSETTO:-0500
TZNAME:CDT
DTSTART:20250309T080000
END:DAYLIGHT
BEGIN:STANDARD
TZOFFSETFROM:-0500
TZOFFSETTO:-0600
TZNAME:CST
DTSTART:20251102T070000
END:STANDARD
END:VTIMEZONE
BEGIN:VEVENT
DTSTART;TZID=America/Chicago:20241002T120000
DTEND;TZID=America/Chicago:20241002T140000
DTSTAMP:20260423T151547
CREATED:20240913T200606Z
LAST-MODIFIED:20240913T200606Z
UID:19183-1727870400-1727877600@brohnhomes.com
SUMMARY:New Construction Crash Course at Harvest Ridge
DESCRIPTION:Calling All TopAgents – Join us to learn everything you wanted to know but were afraid to ask when selling new construction homes. We’ll go over everything new home sales\, including the construction process and the warranty process. Plus learn more about Brohn Homes and what we can do for you and your buyer! \nLunch will be served prior to the course at 11:30 am
URL:https://brohnhomes.com/event/new-construction-crash-course-at-harvest-ridge/
LOCATION:Harvest Ridge Sales Office\, 103 Roost Road\, Elgin\, TX\, 78621
CATEGORIES:Top Agent
ATTACH;FMTTYPE=image/jpeg:https://brohnhomes.com/wp-content/uploads/2023/12/Harvest-Ridge-by-Brohn-Homes-103-Roost-Rd-Elgin-TX-78621-USA-1.jpg
END:VEVENT
BEGIN:VEVENT
DTSTART;TZID=America/Chicago:20241010T160000
DTEND;TZID=America/Chicago:20241010T180000
DTSTAMP:20260423T151548
CREATED:20240918T170831Z
LAST-MODIFIED:20240918T171021Z
UID:19205-1728576000-1728583200@brohnhomes.com
SUMMARY:South Community Realtor Happy Hour
DESCRIPTION:Calling all Brohn TopAgents – Join your Casetta Ranch and Cloverleaf sales consultants for a special happy hour at the Cloverleaf Model! \nMix and mingle with our sales team and other realtors\, learn more about our communities and incentives\, & enjoy refreshments and bites.
URL:https://brohnhomes.com/event/south-community-realtor-happy-hour-3/
LOCATION:Cloverleaf\, 11308 Comano Drive\, Austin\, TX\, 78747\, United States
CATEGORIES:Top Agent
ATTACH;FMTTYPE=image/jpeg:https://brohnhomes.com/wp-content/uploads/2021/12/Cloverleaf-Model-11308-Comano-Drive-Standard-Edit-4_Revised-1.jpeg
END:VEVENT
BEGIN:VEVENT
DTSTART;TZID=America/Chicago:20241018T120000
DTEND;TZID=America/Chicago:20241018T140000
DTSTAMP:20260423T151548
CREATED:20240924T194228Z
LAST-MODIFIED:20240924T194228Z
UID:19343-1729252800-1729260000@brohnhomes.com
SUMMARY:Casetta Ranch Spooky Scavenger Hunt
DESCRIPTION:Calling all Brohn TopAgents – Join your sales consultants at Casetta Ranch for a spooky themed realtor scavenger hunt through our inventory homes!  \n\nCome on out for prizes\, light snacks\, & networking!
URL:https://brohnhomes.com/event/casetta-ranch-spooky-scavenger-hunt/
LOCATION:Casetta Ranch Sales Office\, 182 Hortus Dr\, Kyle\, TX\, 78640\, United States
CATEGORIES:Top Agent
ATTACH;FMTTYPE=image/png:https://brohnhomes.com/wp-content/uploads/2024/09/Event-Photo-Card-2.png
END:VEVENT
BEGIN:VEVENT
DTSTART;TZID=America/Chicago:20241026T110000
DTEND;TZID=America/Chicago:20241026T130000
DTSTAMP:20260423T151548
CREATED:20240916T191659Z
LAST-MODIFIED:20241016T130038Z
UID:19195-1729940400-1729947600@brohnhomes.com
SUMMARY:Edgebrooke Grand Opening
DESCRIPTION:We’re thrilled to invite you to the grand opening of our model home at Edgebrooke\, Brohn’s newest community in Pflugerville! Join us to learn all about this incredible neighborhood and celebrate everything that’s to come! This event is free and open to the public. \nJoin Us For: \n\nLive Music\nFood\nModel Home Tour\nFree Drinks
URL:https://brohnhomes.com/event/edgebrooke-grand-opening/
LOCATION:Edgebrooke Sales Office\, 2714 Totley Rd.\, Pflugerville\, TX\, 78660\, United States
CATEGORIES:Top Agent
ATTACH;FMTTYPE=image/png:https://brohnhomes.com/wp-content/uploads/2024/09/Event-Photo-Card-1.png
END:VEVENT
END:VCALENDAR