BEGIN:VCALENDAR
VERSION:2.0
PRODID:-//Brohn Homes - ECPv6.15.20//NONSGML v1.0//EN
CALSCALE:GREGORIAN
METHOD:PUBLISH
X-WR-CALNAME:Brohn Homes
X-ORIGINAL-URL:https://brohnhomes.com
X-WR-CALDESC:Events for Brohn Homes
REFRESH-INTERVAL;VALUE=DURATION:PT1H
X-Robots-Tag:noindex
X-PUBLISHED-TTL:PT1H
BEGIN:VTIMEZONE
TZID:America/Chicago
BEGIN:DAYLIGHT
TZOFFSETFROM:-0600
TZOFFSETTO:-0500
TZNAME:CDT
DTSTART:20230312T080000
END:DAYLIGHT
BEGIN:STANDARD
TZOFFSETFROM:-0500
TZOFFSETTO:-0600
TZNAME:CST
DTSTART:20231105T070000
END:STANDARD
BEGIN:DAYLIGHT
TZOFFSETFROM:-0600
TZOFFSETTO:-0500
TZNAME:CDT
DTSTART:20240310T080000
END:DAYLIGHT
BEGIN:STANDARD
TZOFFSETFROM:-0500
TZOFFSETTO:-0600
TZNAME:CST
DTSTART:20241103T070000
END:STANDARD
BEGIN:DAYLIGHT
TZOFFSETFROM:-0600
TZOFFSETTO:-0500
TZNAME:CDT
DTSTART:20250309T080000
END:DAYLIGHT
BEGIN:STANDARD
TZOFFSETFROM:-0500
TZOFFSETTO:-0600
TZNAME:CST
DTSTART:20251102T070000
END:STANDARD
END:VTIMEZONE
BEGIN:VEVENT
DTSTART;TZID=America/Chicago:20240904T110000
DTEND;TZID=America/Chicago:20240904T130000
DTSTAMP:20260421T115658
CREATED:20240816T161631Z
LAST-MODIFIED:20240827T182452Z
UID:18657-1725447600-1725454800@brohnhomes.com
SUMMARY:Edgebrooke's Dusty Boots
DESCRIPTION:Calling all TopAgents – Brohn’s newest community is officially open for sale in Pflugerville and we want you to have the first look! Join us at our sales trailers to learn all about incentives\, floor plans\, and a sneak peek to upcoming amenities! \nDrinks and light snacks will be served.
URL:https://brohnhomes.com/event/edgebrookes-dusty-boots/
LOCATION:Edgebrooke Sales Office\, 2714 Totley Rd.\, Pflugerville\, TX\, 78660\, United States
CATEGORIES:Top Agent
ATTACH;FMTTYPE=image/jpeg:https://brohnhomes.com/wp-content/uploads/2021/12/Cloverleaf-Model-11308-Comano-Drive-5-Revised-2-1-Renovation-3.jpeg
END:VEVENT
BEGIN:VEVENT
DTSTART;TZID=America/Chicago:20240904T130000
DTEND;TZID=America/Chicago:20240904T150000
DTSTAMP:20260421T115658
CREATED:20240808T161745Z
LAST-MODIFIED:20240808T162531Z
UID:18478-1725454800-1725462000@brohnhomes.com
SUMMARY:Complimentary In-person CE Class at Double Eagle
DESCRIPTION:**Complimentary class! Get the credits you need and learn more about our Double Eagle Ranch community.** \n\nImportant Forms to Use in Your Transaction (2 Hours) \n\n\nCourse: #46097\nTREC Provider: 10601 Success Shareholders\nCourse satisfies 2-hour TREC Contracts requirement\n\n*Light snacks and beverages will be provided.
URL:https://brohnhomes.com/event/complimentary-in-person-ce-class-at-double-eagle-3/
LOCATION:Double Eagle Ranch\, 106 Double Eagle Ranch Drive\, Cedar Creek\, 78612
CATEGORIES:Top Agent
ATTACH;FMTTYPE=image/jpeg:https://brohnhomes.com/wp-content/uploads/2021/12/Double-Eagle-Aerials-Standard-Edit-2-revised.jpeg
END:VEVENT
BEGIN:VEVENT
DTSTART;TZID=America/Chicago:20240905T100000
DTEND;TZID=America/Chicago:20240905T140000
DTSTAMP:20260421T115658
CREATED:20240726T181054Z
LAST-MODIFIED:20240726T181054Z
UID:18446-1725530400-1725544800@brohnhomes.com
SUMMARY:South Community Realtor Bus Tour
DESCRIPTION:Join your Brohn Homes Sales Consultants and CMG Financial for a luxurious bus tour across all of Brohn’s communities south of Austin! \nWe will provide coffee\, breakfast\, and mimosas! Spots are limited\, so be sure to RSVP! \n\nTour begins at Cloverleaf in South Austin.  Ends back at Cloverleaf. \nSchedule: \n\nCloverleaf – Breakfast & Mimosas  \n11308 Comano Dr. Austin TX. 78747 \nCasetta Ranch – Snacks & Mimosas \n182 Hortus Dr. Kyle\, TX. 78640 \nHymeadow – Lunch & Mimosas  \n441 Delta Crest Maxwell\, TX. 78656
URL:https://brohnhomes.com/event/south-community-realtor-bus-tour/
LOCATION:Cloverleaf\, 11308 Comano Drive\, Austin\, TX\, 78747\, United States
CATEGORIES:Top Agent
ATTACH;FMTTYPE=image/jpeg:https://brohnhomes.com/wp-content/uploads/2022/06/Brohn-Homes-Community-Ground-33-1-.jpg
END:VEVENT
BEGIN:VEVENT
DTSTART;TZID=America/Chicago:20240912T123000
DTEND;TZID=America/Chicago:20240912T153000
DTSTAMP:20260421T115658
CREATED:20240801T133810Z
LAST-MODIFIED:20240801T133810Z
UID:18474-1726144200-1726155000@brohnhomes.com
SUMMARY:Lifestyle Headshots at Hymeadow
DESCRIPTION:Calling All Realtors – Say goodbye to typical headshots and stand out from the crowd with lifestyle headshots! Join us at Hymeadow in Maxwell to have your professional photos taken inside our staged model homes. Spots are limited – Be sure to RSVP! \n\nFree Lifestyle Headshots\nModel Home Tours\nNetworking Opportunities\n\nRefreshments will be served.
URL:https://brohnhomes.com/event/lifestyle-headshots-at-hymeadow/
LOCATION:Hymeadow Sales Office\, 441 Delta Crest\, Maxwell\, 78656
CATEGORIES:Top Agent
ATTACH;FMTTYPE=image/png:https://brohnhomes.com/wp-content/uploads/2024/05/Event-Photo-Card.png
END:VEVENT
BEGIN:VEVENT
DTSTART;TZID=America/Chicago:20240918T130000
DTEND;TZID=America/Chicago:20240918T160000
DTSTAMP:20260421T115658
CREATED:20240827T183637Z
LAST-MODIFIED:20240827T190845Z
UID:18974-1726664400-1726675200@brohnhomes.com
SUMMARY:Wine & Wisdom - Complimentary CE Class at Cloverleaf
DESCRIPTION:**Complimentary class! Get the credits you need and learn more about our Cloverleaf community.** \n\nThe One to Four Family Residential Contract and Back Up Offers (3 hours) \n\n\nCourse: #49196\nTREC Provider: 10601 Success Shareholders\n\n*Light snacks and beverages will be provided.
URL:https://brohnhomes.com/event/wine-wisdom-complimentary-ce-class-at-cloverleaf/
LOCATION:Cloverleaf\, 11308 Comano Drive\, Austin\, TX\, 78747\, United States
CATEGORIES:Top Agent
ATTACH;FMTTYPE=image/jpeg:https://brohnhomes.com/wp-content/uploads/2021/12/Cloverleaf-Community-Model-Home-11304-Standard-Edit-ct2-copy.jpeg
END:VEVENT
END:VCALENDAR