BEGIN:VCALENDAR
VERSION:2.0
PRODID:-//Brohn Homes - ECPv6.15.20//NONSGML v1.0//EN
CALSCALE:GREGORIAN
METHOD:PUBLISH
X-ORIGINAL-URL:https://brohnhomes.com
X-WR-CALDESC:Events for Brohn Homes
REFRESH-INTERVAL;VALUE=DURATION:PT1H
X-Robots-Tag:noindex
X-PUBLISHED-TTL:PT1H
BEGIN:VTIMEZONE
TZID:America/Chicago
BEGIN:DAYLIGHT
TZOFFSETFROM:-0600
TZOFFSETTO:-0500
TZNAME:CDT
DTSTART:20230312T080000
END:DAYLIGHT
BEGIN:STANDARD
TZOFFSETFROM:-0500
TZOFFSETTO:-0600
TZNAME:CST
DTSTART:20231105T070000
END:STANDARD
BEGIN:DAYLIGHT
TZOFFSETFROM:-0600
TZOFFSETTO:-0500
TZNAME:CDT
DTSTART:20240310T080000
END:DAYLIGHT
BEGIN:STANDARD
TZOFFSETFROM:-0500
TZOFFSETTO:-0600
TZNAME:CST
DTSTART:20241103T070000
END:STANDARD
BEGIN:DAYLIGHT
TZOFFSETFROM:-0600
TZOFFSETTO:-0500
TZNAME:CDT
DTSTART:20250309T080000
END:DAYLIGHT
BEGIN:STANDARD
TZOFFSETFROM:-0500
TZOFFSETTO:-0600
TZNAME:CST
DTSTART:20251102T070000
END:STANDARD
END:VTIMEZONE
BEGIN:VEVENT
DTSTART;TZID=America/Chicago:20240807T110000
DTEND;TZID=America/Chicago:20240807T140000
DTSTAMP:20260423T092640
CREATED:20240722T181145Z
LAST-MODIFIED:20240722T190305Z
UID:18382-1723028400-1723039200@brohnhomes.com
SUMMARY:Complimentary In-person CE Class at Clear Creek
DESCRIPTION:**Complimentary class! Get the credits you need and learn more about our Clear Creek community.** \nA Review of the One to Four Family Residential Contract (3 hours) \n\nCourse #49231\nInstructor: Darian Rausch\nTREC Provider: 10601 Success Shareholders\nCourse satisfies 3-hour TREC Contracts requirement\n\n*Lunch will be provided at 12:30p
URL:https://brohnhomes.com/event/complimentary-in-person-ce-class-at-clear-creek/
LOCATION:Clear Creek Sales Office\, 2605 Sam Bass Road #17\, Round Rock\, TX\, 78681
CATEGORIES:Top Agent
ATTACH;FMTTYPE=image/jpeg:https://brohnhomes.com/wp-content/uploads/2023/12/2605-Sam-Bass-Rd-Round-Rock-TX-78681-USA-3.jpg
END:VEVENT
BEGIN:VEVENT
DTSTART;TZID=America/Chicago:20240807T120000
DTEND;TZID=America/Chicago:20240807T140000
DTSTAMP:20260423T092640
CREATED:20240722T184107Z
LAST-MODIFIED:20240722T184107Z
UID:18385-1723032000-1723039200@brohnhomes.com
SUMMARY:New Construction Crash Course at Hymeadow
DESCRIPTION:Calling All TopAgents – Join us to learn everything you wanted to know but were afraid to ask when selling new construction homes. We’ll go over everything new home sales\, including the construction process and the warranty process. Plus learn more about Brohn Homes and what we can do for you and your buyer! \nLunch will be served prior to the course at 11:30am
URL:https://brohnhomes.com/event/new-construction-crash-course-at-hymeadow/
LOCATION:Hymeadow Sales Office\, 441 Delta Crest\, Maxwell\, 78656
CATEGORIES:Top Agent
ATTACH;FMTTYPE=image/jpeg:https://brohnhomes.com/wp-content/uploads/2024/02/441-Delta-Crst_-Maxwell_-TX-78656_-7_Revised-3-1.jpg
END:VEVENT
BEGIN:VEVENT
DTSTART;TZID=America/Chicago:20240815T160000
DTEND;TZID=America/Chicago:20240815T180000
DTSTAMP:20260423T092640
CREATED:20240725T132026Z
LAST-MODIFIED:20240725T132026Z
UID:18422-1723737600-1723744800@brohnhomes.com
SUMMARY:Wine\, Dine & Design - Realtor Happy Hour
DESCRIPTION:We are delighted to invite you to a special Wine & Cheese Happy Hour hosted by Brohn Homes at The Floor King Design Center! This exclusive event is an excellent opportunity for you to explore the myriad options and upgrades available for new construction homes in our Cross Creek community. \nJoin us for an evening of fine wine and delectable cheese boards as we showcase the high-quality finishes and customizable features that set Brohn Homes apart. Our team will be on hand to answer any questions and provide insights into how we can help your clients create their dream homes. \nWe look forward to seeing you there and sharing a wonderful evening of networking\, learning\, and delicious treats.
URL:https://brohnhomes.com/event/wine-dine-design-realtor-happy-hour/
LOCATION:Floor King Design Center\, 10961 Research Blvd\, Austin\, TX\, 78759\, United States
ATTACH;FMTTYPE=image/jpeg:https://brohnhomes.com/wp-content/uploads/2021/12/2605-Sam-Bass-Rd-Round-Rock-TX-78681-USA-15.jpg
END:VEVENT
END:VCALENDAR