BEGIN:VCALENDAR
VERSION:2.0
PRODID:-//Brohn Homes - ECPv6.15.20//NONSGML v1.0//EN
CALSCALE:GREGORIAN
METHOD:PUBLISH
X-WR-CALNAME:Brohn Homes
X-ORIGINAL-URL:https://brohnhomes.com
X-WR-CALDESC:Events for Brohn Homes
REFRESH-INTERVAL;VALUE=DURATION:PT1H
X-Robots-Tag:noindex
X-PUBLISHED-TTL:PT1H
BEGIN:VTIMEZONE
TZID:America/Chicago
BEGIN:DAYLIGHT
TZOFFSETFROM:-0600
TZOFFSETTO:-0500
TZNAME:CDT
DTSTART:20220313T080000
END:DAYLIGHT
BEGIN:STANDARD
TZOFFSETFROM:-0500
TZOFFSETTO:-0600
TZNAME:CST
DTSTART:20221106T070000
END:STANDARD
BEGIN:DAYLIGHT
TZOFFSETFROM:-0600
TZOFFSETTO:-0500
TZNAME:CDT
DTSTART:20230312T080000
END:DAYLIGHT
BEGIN:STANDARD
TZOFFSETFROM:-0500
TZOFFSETTO:-0600
TZNAME:CST
DTSTART:20231105T070000
END:STANDARD
BEGIN:DAYLIGHT
TZOFFSETFROM:-0600
TZOFFSETTO:-0500
TZNAME:CDT
DTSTART:20240310T080000
END:DAYLIGHT
BEGIN:STANDARD
TZOFFSETFROM:-0500
TZOFFSETTO:-0600
TZNAME:CST
DTSTART:20241103T070000
END:STANDARD
END:VTIMEZONE
BEGIN:VEVENT
DTSTART;TZID=America/Chicago:20230923T110000
DTEND;TZID=America/Chicago:20230923T140000
DTSTAMP:20260421T090319
CREATED:20230905T141919Z
LAST-MODIFIED:20230905T141919Z
UID:14033-1695466800-1695477600@brohnhomes.com
SUMMARY:Harvest Ridge Amenity Center Grand Opening
DESCRIPTION:We are thrilled to present the long awaited opening of The Square at Harvest Ridge! Join us to experience the expansive\, upscale amenities including the welcome center\, game room\, lounge\, and more!
URL:https://brohnhomes.com/event/harvest-ridge-amenity-center-grand-opening/
LOCATION:Harvest Ridge Sales Office\, 103 Roost Road\, Elgin\, TX\, 78621
CATEGORIES:Top Agent
ATTACH;FMTTYPE=image/jpeg:https://brohnhomes.com/wp-content/uploads/2023/09/Aerial-View-2.jpg
END:VEVENT
BEGIN:VEVENT
DTSTART;TZID=America/Chicago:20230923T110000
DTEND;TZID=America/Chicago:20230923T140000
DTSTAMP:20260421T090319
CREATED:20230905T142439Z
LAST-MODIFIED:20230905T142439Z
UID:14036-1695466800-1695477600@brohnhomes.com
SUMMARY:Clear Creek Model Home Grand Opening
DESCRIPTION:We’re thrilled to invite you to the grand opening of our model home at Clear Creek\, Brohn’s newest community in Round Rock! Join us to learn all about this incredible neighborhood and celebrate everything that’s to come!
URL:https://brohnhomes.com/event/clear-creek-model-home-grand-opening/
LOCATION:Clear Creek Sales Office\, 2605 Sam Bass Road #17\, Round Rock\, TX\, 78681
CATEGORIES:Top Agent
ATTACH;FMTTYPE=image/jpeg:https://brohnhomes.com/wp-content/uploads/2023/09/Morning-Star-Model-ADVANCED-Edit-4-2-scaled.jpg
END:VEVENT
BEGIN:VEVENT
DTSTART;TZID=America/Chicago:20230927T123000
DTEND;TZID=America/Chicago:20230927T143000
DTSTAMP:20260421T090319
CREATED:20230908T185707Z
LAST-MODIFIED:20230911T173444Z
UID:14327-1695817800-1695825000@brohnhomes.com
SUMMARY:Complementary In-person CE Class at Casetta Ranch
DESCRIPTION:**Complementary class! Get the credits you need and learn more about our Casetta Ranch community in Kyle.** \nSocial Media Content and Strategy Class: Course #43390 \nLearn all about how to boost your online social media presence with a helpful class! \n\nInstructor: Nicole Cooke\nTREC Provider: Schmooze Networking #10213\n\n\nLunch will be served before the class at 11:30am
URL:https://brohnhomes.com/event/complementary-in-person-ce-class-at-casetta-ranch-2/
LOCATION:Casetta Ranch Sales Office\, 182 Hortus Dr\, Kyle\, TX\, 78640\, United States
CATEGORIES:Top Agent
ATTACH;FMTTYPE=image/jpeg:https://brohnhomes.com/wp-content/uploads/2021/12/Casetta-Two-Story-Model-Home-Stills-2-revised-2.jpg
END:VEVENT
END:VCALENDAR