BEGIN:VCALENDAR
VERSION:2.0
PRODID:-//Brohn Homes - ECPv6.15.20//NONSGML v1.0//EN
CALSCALE:GREGORIAN
METHOD:PUBLISH
X-ORIGINAL-URL:https://brohnhomes.com
X-WR-CALDESC:Events for Brohn Homes
REFRESH-INTERVAL;VALUE=DURATION:PT1H
X-Robots-Tag:noindex
X-PUBLISHED-TTL:PT1H
BEGIN:VTIMEZONE
TZID:America/Chicago
BEGIN:DAYLIGHT
TZOFFSETFROM:-0600
TZOFFSETTO:-0500
TZNAME:CDT
DTSTART:20220313T080000
END:DAYLIGHT
BEGIN:STANDARD
TZOFFSETFROM:-0500
TZOFFSETTO:-0600
TZNAME:CST
DTSTART:20221106T070000
END:STANDARD
BEGIN:DAYLIGHT
TZOFFSETFROM:-0600
TZOFFSETTO:-0500
TZNAME:CDT
DTSTART:20230312T080000
END:DAYLIGHT
BEGIN:STANDARD
TZOFFSETFROM:-0500
TZOFFSETTO:-0600
TZNAME:CST
DTSTART:20231105T070000
END:STANDARD
BEGIN:DAYLIGHT
TZOFFSETFROM:-0600
TZOFFSETTO:-0500
TZNAME:CDT
DTSTART:20240310T080000
END:DAYLIGHT
BEGIN:STANDARD
TZOFFSETFROM:-0500
TZOFFSETTO:-0600
TZNAME:CST
DTSTART:20241103T070000
END:STANDARD
END:VTIMEZONE
BEGIN:VEVENT
DTSTART;TZID=America/Chicago:20230401T100000
DTEND;TZID=America/Chicago:20230401T180000
DTSTAMP:20260424T073242
CREATED:20230131T163953Z
LAST-MODIFIED:20230301T193550Z
UID:10089-1680343200-1680372000@brohnhomes.com
SUMMARY:Lending & New Home Buying 101
DESCRIPTION:Join CMG Financial and our New Home Consultants to answer all your questions about financing promotions and the home-buying process from pre-approval to closing. Plus\, explore the newest model homes and community amenities! \n\nHow do I purchase with $0 Closing Costs?\nAt Casetta Ranch\, you can do this!\nHow much will promotional rates reduce my monthly payment?\nHow much can I afford?\nWhat is available in my price range?\nWhat if I’m in a lease?\nSpoiler: Use our money to end your lease early!\n\nOpen House 10am-6pm \nBites and refreshments will be served.
URL:https://brohnhomes.com/event/lending-new-home-buying-101-cr/
LOCATION:Casetta Ranch Sales Office\, 182 Hortus Dr\, Kyle\, TX\, 78640\, United States
ATTACH;FMTTYPE=image/jpeg:https://brohnhomes.com/wp-content/uploads/2021/12/Casetta-Two-Story-Model-Home-Stills-3-revised.jpeg
END:VEVENT
BEGIN:VEVENT
DTSTART;TZID=America/Chicago:20230401T100000
DTEND;TZID=America/Chicago:20230401T180000
DTSTAMP:20260424T073242
CREATED:20230301T192020Z
LAST-MODIFIED:20230301T204132Z
UID:11157-1680343200-1680372000@brohnhomes.com
SUMMARY:Préstamos y la Compra de Vivienda 101
DESCRIPTION:¡Acompaña CMG Financial y al equipo de ventas de Casetta Ranch para aprender todo lo que necesitas para encontrar la casa perfecta! Ellos podrán responder a preguntas sobre promociones financieras y el proceso de compras para la casa de sus sueños! \n\n¿Comó puedo comprar sin costos de cierre?\nEn Casetta Ranch\, ¡puedes hacer esto!\n¿Qué tanto puede bajar mi pago mensual con estas promociones?\n¿Cuanto puedo pagar?\n¿Que esta disponible en mi gama de precios?\n\nCasa Abierta 10am – 6pm \nHabrá refrigerios y bebidas.
URL:https://brohnhomes.com/event/prestamos-y-la-compra-de-vivienda-101-cr/
LOCATION:Casetta Ranch Sales Office\, 182 Hortus Dr\, Kyle\, TX\, 78640\, United States
ATTACH;FMTTYPE=image/jpeg:https://brohnhomes.com/wp-content/uploads/2021/12/Casetta-Two-Story-Model-Home-Stills-3-revised.jpeg
END:VEVENT
BEGIN:VEVENT
DTSTART;TZID=America/Chicago:20230406T153000
DTEND;TZID=America/Chicago:20230406T173000
DTSTAMP:20260424T073242
CREATED:20230316T173521Z
LAST-MODIFIED:20230316T173521Z
UID:11336-1680795000-1680802200@brohnhomes.com
SUMMARY:TopAgent Happy Hour: April 2023
DESCRIPTION:Join us on April 6th at Culinary Dropout for food\, drinks\, and raffle prizes as we thank you for being one of our TopAgents. There will also be prizes for the two TopAgents that contracted the most homes this quarter! Must be present to win!
URL:https://brohnhomes.com/event/topagent-happy-hour-april-2023/
LOCATION:Culinary Dropout\, 11721 Rock Rose\, Austin\, TX\, 78758\, United States
CATEGORIES:Top Agent
ATTACH;FMTTYPE=image/jpeg:https://brohnhomes.com/wp-content/uploads/2023/03/Happy-Hour.jpg
END:VEVENT
BEGIN:VEVENT
DTSTART;TZID=America/Chicago:20230422T100000
DTEND;TZID=America/Chicago:20230422T180000
DTSTAMP:20260424T073242
CREATED:20230404T151624Z
LAST-MODIFIED:20230404T151624Z
UID:11584-1682157600-1682186400@brohnhomes.com
SUMMARY:Lending & New Home Buying 101
DESCRIPTION:Join CMG Financial and our New Home Consultants to answer all your questions about financing promotions and the home-buying process from pre-approval to closing. Plus\, explore the newest model homes and community amenities! \n\nHow do I purchase with $0 Closing Costs?\nAt Trace\, you can do this!\nHow much will promotional rates reduce my monthly payment?\nHow much can I afford?\nWhat is available in my price range?\nWhat if I’m in a lease?\nSpoiler: Use our money to end your lease early!\n\nOpen House 10am-6pm \nBites and refreshments will be served.
URL:https://brohnhomes.com/event/lending-new-home-buying-101/
LOCATION:Trace Model\, 160 Horsemint Way\, San Marcos\, TX\, United States
ATTACH;FMTTYPE=image/jpeg:https://brohnhomes.com/wp-content/uploads/2021/12/Trace-Model-Home-Photos-Standard-Edit-2.jpeg
END:VEVENT
BEGIN:VEVENT
DTSTART;TZID=America/Chicago:20230422T100000
DTEND;TZID=America/Chicago:20230422T180000
DTSTAMP:20260424T073242
CREATED:20230404T152126Z
LAST-MODIFIED:20230404T152126Z
UID:11587-1682157600-1682186400@brohnhomes.com
SUMMARY:Préstamos y la Compra de Vivienda 101
DESCRIPTION:¡Acompaña CMG Financial y al equipo de ventas de Trace para aprender todo lo que necesitas para encontrar la casa perfecta! Ellos podrán responder a preguntas sobre promociones financieras y el proceso de compras para la casa de sus sueños! \n\n¿Comó puedo comprar sin costos de cierre?\nEn Trace\, ¡puedes hacer esto!\n¿Qué tanto puede bajar mi pago mensual con estas promociones?\n¿Cuanto puedo pagar?\n¿Que esta disponible en mi gama de precios?\n\nCasa Abierta 10am – 6pm \nHabrá refrigerios y bebidas.
URL:https://brohnhomes.com/event/prestamos-y-la-compra-de-vivienda-101-2/
LOCATION:Trace Model\, 160 Horsemint Way\, San Marcos\, TX\, United States
ATTACH;FMTTYPE=image/jpeg:https://brohnhomes.com/wp-content/uploads/2021/12/Trace-Model-Home-Photos-Advanced-Edit-2-2.jpeg
END:VEVENT
BEGIN:VEVENT
DTSTART;TZID=America/Chicago:20230426T123000
DTEND;TZID=America/Chicago:20230426T143000
DTSTAMP:20260424T073242
CREATED:20230315T172838Z
LAST-MODIFIED:20230425T122045Z
UID:11322-1682512200-1682519400@brohnhomes.com
SUMMARY:Complementary In-person CE Class at Oaks at San Gabriel
DESCRIPTION:**Thank you for your interest\, this class is full please check back for future classes** \n**Complementary class! Get the credits you need and learn more about Oaks at San Gabriel.** \nSocial Media Bootcamp: Course #44221 \nLearn all about how to boost your online social media presence with a helpful class! \n\nInstructor: Nicole Cooke\nTREC Provider: Schmooze Networking #10213\n2 Hours of CE Credit\n\n\nLunch will be served before the class at 11:30 AM.
URL:https://brohnhomes.com/event/free-in-person-ce-class-at-oaks-at-san-gabriel/
LOCATION:Oaks at San Gabriel Model\, 1229 Terrace View Drive\, Georgetown\, TX\, 78628\, United States
CATEGORIES:Top Agent
ATTACH;FMTTYPE=image/jpeg:https://brohnhomes.com/wp-content/uploads/2021/12/1229_Terrace_View_Oaks_at_San_Gabriel_Exterior.jpg
END:VEVENT
END:VCALENDAR