BEGIN:VCALENDAR
VERSION:2.0
PRODID:-//Brohn Homes - ECPv6.15.20//NONSGML v1.0//EN
CALSCALE:GREGORIAN
METHOD:PUBLISH
X-WR-CALNAME:Brohn Homes
X-ORIGINAL-URL:https://brohnhomes.com
X-WR-CALDESC:Events for Brohn Homes
REFRESH-INTERVAL;VALUE=DURATION:PT1H
X-Robots-Tag:noindex
X-PUBLISHED-TTL:PT1H
BEGIN:VTIMEZONE
TZID:America/Chicago
BEGIN:DAYLIGHT
TZOFFSETFROM:-0600
TZOFFSETTO:-0500
TZNAME:CDT
DTSTART:20220313T080000
END:DAYLIGHT
BEGIN:STANDARD
TZOFFSETFROM:-0500
TZOFFSETTO:-0600
TZNAME:CST
DTSTART:20221106T070000
END:STANDARD
BEGIN:DAYLIGHT
TZOFFSETFROM:-0600
TZOFFSETTO:-0500
TZNAME:CDT
DTSTART:20230312T080000
END:DAYLIGHT
BEGIN:STANDARD
TZOFFSETFROM:-0500
TZOFFSETTO:-0600
TZNAME:CST
DTSTART:20231105T070000
END:STANDARD
BEGIN:DAYLIGHT
TZOFFSETFROM:-0600
TZOFFSETTO:-0500
TZNAME:CDT
DTSTART:20240310T080000
END:DAYLIGHT
BEGIN:STANDARD
TZOFFSETFROM:-0500
TZOFFSETTO:-0600
TZNAME:CST
DTSTART:20241103T070000
END:STANDARD
END:VTIMEZONE
BEGIN:VEVENT
DTSTART;TZID=America/Chicago:20230310T100000
DTEND;TZID=America/Chicago:20230310T140000
DTSTAMP:20260425T094515
CREATED:20230228T202248Z
LAST-MODIFIED:20230228T204901Z
UID:11146-1678442400-1678456800@brohnhomes.com
SUMMARY:Free In-person CE Class at Double Eagle Ranch
DESCRIPTION:**Free class! Get the credits you need and learn more about our Double Eagle Ranch acreage community.** \nLegal 1 Class: Course #42039 \nReview recent legislative and TREC rule changes\, including changes to TREC promulgated contract forms. \n\nInstructor: Mary Miner\nTREC Provider: Williamson County Association of Realtors
URL:https://brohnhomes.com/event/free-in-person-ce-class-at-double-eagle-ranch/
LOCATION:Double Eagle Ranch\, 106 Double Eagle Ranch Drive\, Cedar Creek\, 78612
ATTACH;FMTTYPE=image/jpeg:https://brohnhomes.com/wp-content/uploads/2023/02/Double-Eagle-Ranch.jpg
END:VEVENT
BEGIN:VEVENT
DTSTART;TZID=America/Chicago:20230317T110000
DTEND;TZID=America/Chicago:20230317T130000
DTSTAMP:20260425T094515
CREATED:20230306T162158Z
LAST-MODIFIED:20230314T152801Z
UID:11173-1679050800-1679058000@brohnhomes.com
SUMMARY:Cloverleaf’s Shamrock Soiree
DESCRIPTION:Join your Cloverleaf sales agents at a special St. Paddy’s Day soiree! Explore the newest model homes and community while having a wee bit o’fun! \n\nGreen Beer & Mimosas\nScavenger Hunt\nSpecial Prizes!\n\nLunch Will Be Served
URL:https://brohnhomes.com/event/cloverleafs-shamrock-soiree/
LOCATION:Cloverleaf\, 11308 Comano Drive\, Austin\, TX\, 78747\, United States
CATEGORIES:Top Agent
ATTACH;FMTTYPE=image/jpeg:https://brohnhomes.com/wp-content/uploads/2023/03/Pages-from-BH_CloverleahSoiree.jpg
END:VEVENT
END:VCALENDAR