BEGIN:VCALENDAR
VERSION:2.0
PRODID:-//Brohn Homes - ECPv6.15.20//NONSGML v1.0//EN
CALSCALE:GREGORIAN
METHOD:PUBLISH
X-WR-CALNAME:Brohn Homes
X-ORIGINAL-URL:https://brohnhomes.com
X-WR-CALDESC:Events for Brohn Homes
REFRESH-INTERVAL;VALUE=DURATION:PT1H
X-Robots-Tag:noindex
X-PUBLISHED-TTL:PT1H
BEGIN:VTIMEZONE
TZID:America/Chicago
BEGIN:DAYLIGHT
TZOFFSETFROM:-0600
TZOFFSETTO:-0500
TZNAME:CDT
DTSTART:20250309T080000
END:DAYLIGHT
BEGIN:STANDARD
TZOFFSETFROM:-0500
TZOFFSETTO:-0600
TZNAME:CST
DTSTART:20251102T070000
END:STANDARD
BEGIN:DAYLIGHT
TZOFFSETFROM:-0600
TZOFFSETTO:-0500
TZNAME:CDT
DTSTART:20260308T080000
END:DAYLIGHT
BEGIN:STANDARD
TZOFFSETFROM:-0500
TZOFFSETTO:-0600
TZNAME:CST
DTSTART:20261101T070000
END:STANDARD
BEGIN:DAYLIGHT
TZOFFSETFROM:-0600
TZOFFSETTO:-0500
TZNAME:CDT
DTSTART:20270314T080000
END:DAYLIGHT
BEGIN:STANDARD
TZOFFSETFROM:-0500
TZOFFSETTO:-0600
TZNAME:CST
DTSTART:20271107T070000
END:STANDARD
END:VTIMEZONE
BEGIN:VEVENT
DTSTART;TZID=America/Chicago:20260516T110000
DTEND;TZID=America/Chicago:20260516T140000
DTSTAMP:20260420T103950
CREATED:20260414T165600Z
LAST-MODIFIED:20260416T172542Z
UID:36018-1778929200-1778940000@brohnhomes.com
SUMMARY:Houston\, Meet Brohn!
DESCRIPTION:Houston\, Meet Brohn! A Special Community Celebration! \nWe’re excited to officially welcome Houston into the Brohn Family\, and you’re invited! Stop by any of our model homes to meet the team\, explore our communities\, and experience what makes Brohn Homes different. \n\n\n\nJoin us to tour available homes and communities\, meet the team behind Brohn Homes\, swag and prizes throughout the weekend! Plus\, food\, fun & giveaways! \n\n\n\nCome see what it means to be part of the Brohn Family!\n\nAttwater – 405 Canvasback Way\, Waller\, TX 77484\nColony at Pinehurst – 4010 Colony River Rock Blvd.\, Pinehurst\, TX 77362\nHarrington Trails – 15174 Prairie Mills Drive\, New Caney\, TX 77357\nHunter’s Crossing – 370 Legacy Point Drive\, Sealy\, TX 77474\nKaty Lakes – 6202 Lake Chippewa Ct.\, Katy\, TX 77493\nSunterra – 5003 Cyn Grv Dr\, Katy\, TX 77493\nSorella – 21731 Carballo Oak Trl.\, Tomball\, TX 77377\nTrinity Grove – 5222 Wittenberg Way\, Spring TX 77379\n\nRSVP today to help us plan the food and fun. \nCommunity Events are open to the public. To see all events\, please visit our Events page. 
URL:https://brohnhomes.com/event/houston-meet-brohn/
LOCATION:TX
CATEGORIES:Community Events,Grand Openings
ATTACH;FMTTYPE=image/png:https://brohnhomes.com/wp-content/uploads/2026/04/24.png
END:VEVENT
BEGIN:VEVENT
DTSTART;TZID=America/Chicago:20260521T113000
DTEND;TZID=America/Chicago:20260521T133000
DTSTAMP:20260420T103950
CREATED:20260409T210431Z
LAST-MODIFIED:20260420T140314Z
UID:35899-1779363000-1779370200@brohnhomes.com
SUMMARY:Social Media Bootcamp at Cascade
DESCRIPTION:Complimentary CE Course! Get the credits you need and learn more about our Cascade community.\n Social Media Bootcamp \n\nCourse: #33166-RECE\nInstructor: Nicole Cooke\nTREC Provider: 10213-CEP\n\nFrom the instructor: This course covers social media A-Z\, literally\, during Basic Training. We’ll then go into Content Combat and learn what to post where and when. We’ll finish up with Tactical Training by covering tools and tips for managing your social media. \nBreakfast will be served before class \nWhile you’re here\, tour our fully furnished model home showcasing the popular 2595 floor plan\, as well as the beautiful community\, and quick move-in inventory homes. Amenities such as a pool and sports courts are coming soon. This community is wonderful for buyers looking for small-town living with easy access to major highways! \n\n\nTopAgent Events are exclusively for Realtors. Haven’t worked with Brohn yet? We’d love to have you join the Brohn Family; learn more about selling with Brohn on our Agents page.\nTo see all events\, including Community Events\, please visit our Events page. 
URL:https://brohnhomes.com/event/social-media-bootcamp-at-cascade/
LOCATION:Cascade Sales Office\, 104 Spokeshave Ln.\, Liberty Hill\, TX\, 78642\, United States
CATEGORIES:Top Agent
ATTACH;FMTTYPE=image/jpeg:https://brohnhomes.com/wp-content/uploads/2026/04/Brohn-Homes-Social-Media-Bootcamp.jpg
END:VEVENT
END:VCALENDAR