BEGIN:VCALENDAR
VERSION:2.0
PRODID:-//Brohn Homes - ECPv6.15.20//NONSGML v1.0//EN
CALSCALE:GREGORIAN
METHOD:PUBLISH
X-ORIGINAL-URL:https://brohnhomes.com
X-WR-CALDESC:Events for Brohn Homes
REFRESH-INTERVAL;VALUE=DURATION:PT1H
X-Robots-Tag:noindex
X-PUBLISHED-TTL:PT1H
BEGIN:VTIMEZONE
TZID:America/Chicago
BEGIN:DAYLIGHT
TZOFFSETFROM:-0600
TZOFFSETTO:-0500
TZNAME:CDT
DTSTART:20240310T080000
END:DAYLIGHT
BEGIN:STANDARD
TZOFFSETFROM:-0500
TZOFFSETTO:-0600
TZNAME:CST
DTSTART:20241103T070000
END:STANDARD
BEGIN:DAYLIGHT
TZOFFSETFROM:-0600
TZOFFSETTO:-0500
TZNAME:CDT
DTSTART:20250309T080000
END:DAYLIGHT
BEGIN:STANDARD
TZOFFSETFROM:-0500
TZOFFSETTO:-0600
TZNAME:CST
DTSTART:20251102T070000
END:STANDARD
BEGIN:DAYLIGHT
TZOFFSETFROM:-0600
TZOFFSETTO:-0500
TZNAME:CDT
DTSTART:20260308T080000
END:DAYLIGHT
BEGIN:STANDARD
TZOFFSETFROM:-0500
TZOFFSETTO:-0600
TZNAME:CST
DTSTART:20261101T070000
END:STANDARD
END:VTIMEZONE
BEGIN:VEVENT
DTSTART;TZID=America/Chicago:20251108T110000
DTEND;TZID=America/Chicago:20251108T160000
DTSTAMP:20260424T061641
CREATED:20251027T210448Z
LAST-MODIFIED:20251027T210448Z
UID:27686-1762599600-1762617600@brohnhomes.com
SUMMARY:Path to Home Pop-By - Cloverleaf
DESCRIPTION:Calling All New Home Buyers – Turn your home buying fears into empowerment. Contracts\, credit scores\, closing\, and everything in between\, our partner lender will be on-site to help answer your biggest questions about home buying. No matter where you’re at in the process\, we’d love to join you on your Path to Home. CMG Financial will be available from 11 am – 4 pm\, feel free to stop in at any time! \n\nMeet with a Brohn salesperson and a CMG Financial representative\nLearn about the home-buying process and ask questions along the way\nReceive a take-home resource to help your journey\nTour our two model homes\, community\, and inventory homes\n\nRefreshments will be served. \n\nCommunity Events are open to the public. To see all events\, please visit our Events page. 
URL:https://brohnhomes.com/event/path-to-home-pop-by-cloverleaf/
LOCATION:Cloverleaf\, 11308 Comano Drive\, Austin\, TX\, 78747\, United States
CATEGORIES:Community Events,Homebuying Education
ATTACH;FMTTYPE=image/jpeg:https://brohnhomes.com/wp-content/uploads/2025/10/Brohn-Homes-Path-to-Home-Title-1.jpg
END:VEVENT
END:VCALENDAR