BEGIN:VCALENDAR
VERSION:2.0
PRODID:-//Brohn Homes - ECPv6.15.20//NONSGML v1.0//EN
CALSCALE:GREGORIAN
METHOD:PUBLISH
X-WR-CALNAME:Brohn Homes
X-ORIGINAL-URL:https://brohnhomes.com
X-WR-CALDESC:Events for Brohn Homes
REFRESH-INTERVAL;VALUE=DURATION:PT1H
X-Robots-Tag:noindex
X-PUBLISHED-TTL:PT1H
BEGIN:VTIMEZONE
TZID:America/Chicago
BEGIN:DAYLIGHT
TZOFFSETFROM:-0600
TZOFFSETTO:-0500
TZNAME:CDT
DTSTART:20240310T080000
END:DAYLIGHT
BEGIN:STANDARD
TZOFFSETFROM:-0500
TZOFFSETTO:-0600
TZNAME:CST
DTSTART:20241103T070000
END:STANDARD
BEGIN:DAYLIGHT
TZOFFSETFROM:-0600
TZOFFSETTO:-0500
TZNAME:CDT
DTSTART:20250309T080000
END:DAYLIGHT
BEGIN:STANDARD
TZOFFSETFROM:-0500
TZOFFSETTO:-0600
TZNAME:CST
DTSTART:20251102T070000
END:STANDARD
BEGIN:DAYLIGHT
TZOFFSETFROM:-0600
TZOFFSETTO:-0500
TZNAME:CDT
DTSTART:20260308T080000
END:DAYLIGHT
BEGIN:STANDARD
TZOFFSETFROM:-0500
TZOFFSETTO:-0600
TZNAME:CST
DTSTART:20261101T070000
END:STANDARD
END:VTIMEZONE
BEGIN:VEVENT
DTSTART;VALUE=DATE:20251216
DTEND;VALUE=DATE:20251224
DTSTAMP:20260425T080338
CREATED:20251114T205005Z
LAST-MODIFIED:20251121T193944Z
UID:28416-1765843200-1766534399@brohnhomes.com
SUMMARY:Jingle and Mingle - Community Holiday Celebration 2025
DESCRIPTION:We know that community is more than just houses; it’s the people who live there and bring life & love into the home. Drop in anytime between December 16\, 2025\, and December 23\, 2025\, as we celebrate the season together with hot cocoa & family-friendly activities\, including a DIY jingle bell wreath ornament. Whether you’re looking for your new home\, meeting up with neighbors\, or just looking for some holiday cheer\, stop by and see us! \n\nCascade – 104 Spokeshave Ln.\, Liberty Hill\, TX 78642\nCasetta Ranch – 182 Hortus Dr.\, Kyle\, TX 78640\nClear Creek – 2605 Sam Bass Rd. #17\, Round Rock\, TX 78681\nCloverleaf – 11308 Comano Dr.\, Austin\, TX 78747\nCross Creek – 600 C-Bar Ranch Trl. Unit 99\, Cedar Park\, TX 78634\nEdgebrooke – 2714 Totley Rd.\, Pflugerville\, TX 78660\nHarvest Ridge – 103 Roost Rd.\, Elgin\, TX 78621\nHunters Ranch – 164 Beaver Path\, San Antonio\, TX 78245\nHymeadow – 441 Delta Crest\, Maxwell\, TX 78656\n\nCommunity Events are open to the public. To see all events\, please visit our Events page. 
URL:https://brohnhomes.com/event/community-holiday-celebration-2025/
CATEGORIES:Community Events
ATTACH;FMTTYPE=image/png:https://brohnhomes.com/wp-content/uploads/2025/11/Brohn-Homes-Community-Holiday-Celebration-2025.png
END:VEVENT
BEGIN:VEVENT
DTSTART;TZID=America/Chicago:20251217T120000
DTEND;TZID=America/Chicago:20251217T140000
DTSTAMP:20260425T080338
CREATED:20251114T210250Z
LAST-MODIFIED:20251114T210250Z
UID:28419-1765972800-1765980000@brohnhomes.com
SUMMARY:Home for the Holidays Realtor Event - Cloverleaf
DESCRIPTION:Holidays are about togetherness and you’re invited to join our Brohn Homes Cloverleaf team as we mix\, mingle\, and jingle this holiday season. Learn about this fantastic South Austin community and what Brohn can do for you and your buyers. PLUS enter to win a cozy “Home for the Holidays” gift basket.  \nWhile you’re here\, tour our two fully furnished model homes\, our spacious two-story 2460 floor plan\, and our ever popular one-story 1450 plan\, as well as the beautiful community\, and quick move-in inventory homes. \nTopAgent Events are exclusively for Realtors. Haven’t worked with Brohn yet? We’d love to have you join the Brohn Family; learn more about selling with Brohn on our Agents page.\nTo see all events\, including Community Events\, please visit our Events page. 
URL:https://brohnhomes.com/event/home-for-the-holidays-realtor-event-cloverleaf/
LOCATION:Cloverleaf\, 11308 Comano Drive\, Austin\, TX\, 78747\, United States
CATEGORIES:Top Agent
ATTACH;FMTTYPE=image/jpeg:https://brohnhomes.com/wp-content/uploads/2025/11/Brohn-Homes-Cloverleaf-Holiday-Realtor-Event-121725.jpg
END:VEVENT
END:VCALENDAR