BEGIN:VCALENDAR
VERSION:2.0
PRODID:-//Brohn Homes - ECPv6.15.20//NONSGML v1.0//EN
CALSCALE:GREGORIAN
METHOD:PUBLISH
X-ORIGINAL-URL:https://brohnhomes.com
X-WR-CALDESC:Events for Brohn Homes
REFRESH-INTERVAL;VALUE=DURATION:PT1H
X-Robots-Tag:noindex
X-PUBLISHED-TTL:PT1H
BEGIN:VTIMEZONE
TZID:America/Chicago
BEGIN:DAYLIGHT
TZOFFSETFROM:-0600
TZOFFSETTO:-0500
TZNAME:CDT
DTSTART:20240310T080000
END:DAYLIGHT
BEGIN:STANDARD
TZOFFSETFROM:-0500
TZOFFSETTO:-0600
TZNAME:CST
DTSTART:20241103T070000
END:STANDARD
BEGIN:DAYLIGHT
TZOFFSETFROM:-0600
TZOFFSETTO:-0500
TZNAME:CDT
DTSTART:20250309T080000
END:DAYLIGHT
BEGIN:STANDARD
TZOFFSETFROM:-0500
TZOFFSETTO:-0600
TZNAME:CST
DTSTART:20251102T070000
END:STANDARD
BEGIN:DAYLIGHT
TZOFFSETFROM:-0600
TZOFFSETTO:-0500
TZNAME:CDT
DTSTART:20260308T080000
END:DAYLIGHT
BEGIN:STANDARD
TZOFFSETFROM:-0500
TZOFFSETTO:-0600
TZNAME:CST
DTSTART:20261101T070000
END:STANDARD
END:VTIMEZONE
BEGIN:VEVENT
DTSTART;TZID=America/Chicago:20250917T120000
DTEND;TZID=America/Chicago:20250917T140000
DTSTAMP:20260425T094520
CREATED:20250814T194200Z
LAST-MODIFIED:20250909T160824Z
UID:25721-1758110400-1758117600@brohnhomes.com
SUMMARY:Realtor Pop-By Mini Workshop
DESCRIPTION:“Hey\, just wanted to pop by and see how you’re doing.” At home\, at work\, and with buyers (current and future)\, it’s always nice when someone pops by and checks on you. And as a Realtor\, it helps keep you front of mind\, especially with buyers that weren’t quite ready last time you talked\, or maybe you had a great experience and you’re looking to get referrals. \nCome by any Brohn Homes Model on Wednesday\, September 17\, 2025\, for a hands-on Pop-By Mini Workshop. Learn how to make pop-bys work for you and assemble monthly themed pop-bys for Q4. Materials will be provided! \n\nCascade – 104 Spokeshave Ln.\, Liberty Hill\, TX 78642\nCasetta Ranch – 182 Hortus Dr.\, Kyle\, TX 78640\nClear Creek – 2605 Sam Bass Rd. #17\, Round Rock\, TX 78681\nCloverleaf – 11308 Comano Dr.\, Austin\, TX 78747\nCross Creek – 600 C-Bar Ranch Trl. Unit 99\, Cedar Park\, TX 78634\nEdgebrooke – 2714 Totley Rd.\, Pflugerville\, TX 78660\nHarvest Ridge – 103 Roost Rd.\, Elgin\, TX 78621\nHymeadow – 441 Delta Crest\, Maxwell\, TX 78656\nOaks at San Gabriel – 1229 Terrace View Dr.\, Georgetown\, TX 78628\n\nTopAgent Events are exclusively for Realtors. Haven’t worked with Brohn yet? We’d love to have you join the Brohn Family; learn more about selling with Brohn on our Agents page.\nTo see all events\, including Community Events\, please visit our Events page. 
URL:https://brohnhomes.com/event/realtor-pop-by-mini-workshop/
CATEGORIES:Top Agent
ATTACH;FMTTYPE=image/jpeg:https://brohnhomes.com/wp-content/uploads/2025/08/Brohn-Homes-Realtor-Pop-By-091725-1-1.jpg
END:VEVENT
END:VCALENDAR