BEGIN:VCALENDAR
VERSION:2.0
PRODID:-//Brohn Homes - ECPv6.15.20//NONSGML v1.0//EN
CALSCALE:GREGORIAN
METHOD:PUBLISH
X-WR-CALNAME:Brohn Homes
X-ORIGINAL-URL:https://brohnhomes.com
X-WR-CALDESC:Events for Brohn Homes
REFRESH-INTERVAL;VALUE=DURATION:PT1H
X-Robots-Tag:noindex
X-PUBLISHED-TTL:PT1H
BEGIN:VTIMEZONE
TZID:America/Chicago
BEGIN:DAYLIGHT
TZOFFSETFROM:-0600
TZOFFSETTO:-0500
TZNAME:CDT
DTSTART:20230312T080000
END:DAYLIGHT
BEGIN:STANDARD
TZOFFSETFROM:-0500
TZOFFSETTO:-0600
TZNAME:CST
DTSTART:20231105T070000
END:STANDARD
BEGIN:DAYLIGHT
TZOFFSETFROM:-0600
TZOFFSETTO:-0500
TZNAME:CDT
DTSTART:20240310T080000
END:DAYLIGHT
BEGIN:STANDARD
TZOFFSETFROM:-0500
TZOFFSETTO:-0600
TZNAME:CST
DTSTART:20241103T070000
END:STANDARD
BEGIN:DAYLIGHT
TZOFFSETFROM:-0600
TZOFFSETTO:-0500
TZNAME:CDT
DTSTART:20250309T080000
END:DAYLIGHT
BEGIN:STANDARD
TZOFFSETFROM:-0500
TZOFFSETTO:-0600
TZNAME:CST
DTSTART:20251102T070000
END:STANDARD
END:VTIMEZONE
BEGIN:VEVENT
DTSTART;TZID=America/Chicago:20241220T130000
DTEND;TZID=America/Chicago:20241220T150000
DTSTAMP:20260425T062925
CREATED:20241120T172333Z
LAST-MODIFIED:20241120T172333Z
UID:20238-1734699600-1734706800@brohnhomes.com
SUMMARY:Ugly Christmas Sweater Event at Hymeadow
DESCRIPTION:‘Tis the season! Join us for an afternoon of fun and networking\, explore our amazing community\, and learn about our exclusive incentives. \n\nCome by and show off your best ugly Christmas sweater for a chance to win a prize! \nLight snacks and hot cocoa will be served.
URL:https://brohnhomes.com/event/ugly-christmas-sweater-event-at-hymeadow/
LOCATION:Hymeadow Sales Office\, 441 Delta Crest\, Maxwell\, 78656
CATEGORIES:Top Agent
ATTACH;FMTTYPE=image/jpeg:https://brohnhomes.com/wp-content/uploads/2024/11/Hymeadow-Winter.jpg
END:VEVENT
END:VCALENDAR