BEGIN:VCALENDAR
VERSION:2.0
PRODID:-//Brohn Homes - ECPv6.15.20//NONSGML v1.0//EN
CALSCALE:GREGORIAN
METHOD:PUBLISH
X-WR-CALNAME:Brohn Homes
X-ORIGINAL-URL:https://brohnhomes.com
X-WR-CALDESC:Events for Brohn Homes
REFRESH-INTERVAL;VALUE=DURATION:PT1H
X-Robots-Tag:noindex
X-PUBLISHED-TTL:PT1H
BEGIN:VTIMEZONE
TZID:America/Chicago
BEGIN:DAYLIGHT
TZOFFSETFROM:-0600
TZOFFSETTO:-0500
TZNAME:CDT
DTSTART:20230312T080000
END:DAYLIGHT
BEGIN:STANDARD
TZOFFSETFROM:-0500
TZOFFSETTO:-0600
TZNAME:CST
DTSTART:20231105T070000
END:STANDARD
BEGIN:DAYLIGHT
TZOFFSETFROM:-0600
TZOFFSETTO:-0500
TZNAME:CDT
DTSTART:20240310T080000
END:DAYLIGHT
BEGIN:STANDARD
TZOFFSETFROM:-0500
TZOFFSETTO:-0600
TZNAME:CST
DTSTART:20241103T070000
END:STANDARD
BEGIN:DAYLIGHT
TZOFFSETFROM:-0600
TZOFFSETTO:-0500
TZNAME:CDT
DTSTART:20250309T080000
END:DAYLIGHT
BEGIN:STANDARD
TZOFFSETFROM:-0500
TZOFFSETTO:-0600
TZNAME:CST
DTSTART:20251102T070000
END:STANDARD
END:VTIMEZONE
BEGIN:VEVENT
DTSTART;TZID=America/Chicago:20241123T110000
DTEND;TZID=America/Chicago:20241123T130000
DTSTAMP:20260423T233825
CREATED:20241030T192929Z
LAST-MODIFIED:20241030T192929Z
UID:20066-1732359600-1732366800@brohnhomes.com
SUMMARY:Cross Creek Model Grand Opening
DESCRIPTION:We’re thrilled to invite you to the grand opening of our model home at Cross Creek! The final phase is currently under construction and open for sales. Join us to learn all about this incredible neighborhood and celebrate everything that’s to come! This event is free and open to the public. \nJoin Us For: \n\nLive Music\nFood\nModel Home Tour\nFree Drinks
URL:https://brohnhomes.com/event/cross-creek-model-grand-opening/
LOCATION:Cross Creek\, 600 C-Bar Ranch Trl. Unit 99\, Cedar Park\, TX\, 78613\, United States
CATEGORIES:Top Agent
ATTACH;FMTTYPE=image/jpeg:https://brohnhomes.com/wp-content/uploads/2024/10/Model-Home-Grand-Opening-Title.jpg
END:VEVENT
END:VCALENDAR