BEGIN:VCALENDAR
VERSION:2.0
PRODID:-//Brohn Homes - ECPv6.15.20//NONSGML v1.0//EN
CALSCALE:GREGORIAN
METHOD:PUBLISH
X-WR-CALNAME:Brohn Homes
X-ORIGINAL-URL:https://brohnhomes.com
X-WR-CALDESC:Events for Brohn Homes
REFRESH-INTERVAL;VALUE=DURATION:PT1H
X-Robots-Tag:noindex
X-PUBLISHED-TTL:PT1H
BEGIN:VTIMEZONE
TZID:America/Chicago
BEGIN:DAYLIGHT
TZOFFSETFROM:-0600
TZOFFSETTO:-0500
TZNAME:CDT
DTSTART:20230312T080000
END:DAYLIGHT
BEGIN:STANDARD
TZOFFSETFROM:-0500
TZOFFSETTO:-0600
TZNAME:CST
DTSTART:20231105T070000
END:STANDARD
BEGIN:DAYLIGHT
TZOFFSETFROM:-0600
TZOFFSETTO:-0500
TZNAME:CDT
DTSTART:20240310T080000
END:DAYLIGHT
BEGIN:STANDARD
TZOFFSETFROM:-0500
TZOFFSETTO:-0600
TZNAME:CST
DTSTART:20241103T070000
END:STANDARD
BEGIN:DAYLIGHT
TZOFFSETFROM:-0600
TZOFFSETTO:-0500
TZNAME:CDT
DTSTART:20250309T080000
END:DAYLIGHT
BEGIN:STANDARD
TZOFFSETFROM:-0500
TZOFFSETTO:-0600
TZNAME:CST
DTSTART:20251102T070000
END:STANDARD
END:VTIMEZONE
BEGIN:VEVENT
DTSTART;TZID=America/Chicago:20240918T130000
DTEND;TZID=America/Chicago:20240918T160000
DTSTAMP:20260425T053510
CREATED:20240827T183637Z
LAST-MODIFIED:20240827T190845Z
UID:18974-1726664400-1726675200@brohnhomes.com
SUMMARY:Wine & Wisdom - Complimentary CE Class at Cloverleaf
DESCRIPTION:**Complimentary class! Get the credits you need and learn more about our Cloverleaf community.** \n\nThe One to Four Family Residential Contract and Back Up Offers (3 hours) \n\n\nCourse: #49196\nTREC Provider: 10601 Success Shareholders\n\n*Light snacks and beverages will be provided.
URL:https://brohnhomes.com/event/wine-wisdom-complimentary-ce-class-at-cloverleaf/
LOCATION:Cloverleaf\, 11308 Comano Drive\, Austin\, TX\, 78747\, United States
CATEGORIES:Top Agent
ATTACH;FMTTYPE=image/jpeg:https://brohnhomes.com/wp-content/uploads/2021/12/Cloverleaf-Community-Model-Home-11304-Standard-Edit-ct2-copy.jpeg
END:VEVENT
END:VCALENDAR