BEGIN:VCALENDAR
VERSION:2.0
PRODID:-//Brohn Homes - ECPv6.15.20//NONSGML v1.0//EN
CALSCALE:GREGORIAN
METHOD:PUBLISH
X-ORIGINAL-URL:https://brohnhomes.com
X-WR-CALDESC:Events for Brohn Homes
REFRESH-INTERVAL;VALUE=DURATION:PT1H
X-Robots-Tag:noindex
X-PUBLISHED-TTL:PT1H
BEGIN:VTIMEZONE
TZID:America/Chicago
BEGIN:DAYLIGHT
TZOFFSETFROM:-0600
TZOFFSETTO:-0500
TZNAME:CDT
DTSTART:20230312T080000
END:DAYLIGHT
BEGIN:STANDARD
TZOFFSETFROM:-0500
TZOFFSETTO:-0600
TZNAME:CST
DTSTART:20231105T070000
END:STANDARD
BEGIN:DAYLIGHT
TZOFFSETFROM:-0600
TZOFFSETTO:-0500
TZNAME:CDT
DTSTART:20240310T080000
END:DAYLIGHT
BEGIN:STANDARD
TZOFFSETFROM:-0500
TZOFFSETTO:-0600
TZNAME:CST
DTSTART:20241103T070000
END:STANDARD
BEGIN:DAYLIGHT
TZOFFSETFROM:-0600
TZOFFSETTO:-0500
TZNAME:CDT
DTSTART:20250309T080000
END:DAYLIGHT
BEGIN:STANDARD
TZOFFSETFROM:-0500
TZOFFSETTO:-0600
TZNAME:CST
DTSTART:20251102T070000
END:STANDARD
END:VTIMEZONE
BEGIN:VEVENT
DTSTART;TZID=America/Chicago:20240726T140000
DTEND;TZID=America/Chicago:20240726T160000
DTSTAMP:20260421T120319
CREATED:20240627T192234Z
LAST-MODIFIED:20240627T192234Z
UID:18006-1722002400-1722009600@brohnhomes.com
SUMMARY:TopAgent Self Defense Class at Double Eagle Ranch
DESCRIPTION:Join your Double Eagle Ranch community sales consultants and CMG Financial for a TopAgent self-defense class.   \n\nSpots are limited for this class. Please be sure to RSVP to secure your spot.
URL:https://brohnhomes.com/event/topagent-self-defense-class-at-double-eagle-ranch/
LOCATION:Double Eagle Ranch\, 106 Double Eagle Ranch Drive\, Cedar Creek\, 78612
CATEGORIES:Top Agent
ATTACH;FMTTYPE=image/png:https://brohnhomes.com/wp-content/uploads/2024/03/Realtor-Self-Defense.png
END:VEVENT
END:VCALENDAR