BEGIN:VCALENDAR
VERSION:2.0
PRODID:-//Brohn Homes - ECPv6.15.20//NONSGML v1.0//EN
CALSCALE:GREGORIAN
METHOD:PUBLISH
X-WR-CALNAME:Brohn Homes
X-ORIGINAL-URL:https://brohnhomes.com
X-WR-CALDESC:Events for Brohn Homes
REFRESH-INTERVAL;VALUE=DURATION:PT1H
X-Robots-Tag:noindex
X-PUBLISHED-TTL:PT1H
BEGIN:VTIMEZONE
TZID:America/Chicago
BEGIN:DAYLIGHT
TZOFFSETFROM:-0600
TZOFFSETTO:-0500
TZNAME:CDT
DTSTART:20220313T080000
END:DAYLIGHT
BEGIN:STANDARD
TZOFFSETFROM:-0500
TZOFFSETTO:-0600
TZNAME:CST
DTSTART:20221106T070000
END:STANDARD
BEGIN:DAYLIGHT
TZOFFSETFROM:-0600
TZOFFSETTO:-0500
TZNAME:CDT
DTSTART:20230312T080000
END:DAYLIGHT
BEGIN:STANDARD
TZOFFSETFROM:-0500
TZOFFSETTO:-0600
TZNAME:CST
DTSTART:20231105T070000
END:STANDARD
BEGIN:DAYLIGHT
TZOFFSETFROM:-0600
TZOFFSETTO:-0500
TZNAME:CDT
DTSTART:20240310T080000
END:DAYLIGHT
BEGIN:STANDARD
TZOFFSETFROM:-0500
TZOFFSETTO:-0600
TZNAME:CST
DTSTART:20241103T070000
END:STANDARD
END:VTIMEZONE
BEGIN:VEVENT
DTSTART;TZID=America/Chicago:20231115T120000
DTEND;TZID=America/Chicago:20231115T140000
DTSTAMP:20260421T102917
CREATED:20231103T131810Z
LAST-MODIFIED:20231103T131810Z
UID:15019-1700049600-1700056800@brohnhomes.com
SUMMARY:TopAgent Headshots at Oaks at San Gabriel
DESCRIPTION:To celebrate our TopAgents\, we are offering free headshots at our Oaks at San Gabriel model on Wednesday\, November 15th! If you’re in need of a new professional headshot\, be sure to RSVP!  \n\nBites and refreshments will be served. \n\n\n\n\n\n\n 
URL:https://brohnhomes.com/event/topagent-headshots-at-oaks-at-san-gabriel/
LOCATION:Oaks at San Gabriel Model\, 1229 Terrace View Drive\, Georgetown\, TX\, 78628\, United States
CATEGORIES:Top Agent
ATTACH;FMTTYPE=image/jpeg:https://brohnhomes.com/wp-content/uploads/2022/03/O0A32531229_Terrace_View_Brohn_Fossum_Studios_2500px.jpg
END:VEVENT
END:VCALENDAR