BEGIN:VCALENDAR
VERSION:2.0
PRODID:-//Brohn Homes - ECPv6.15.20//NONSGML v1.0//EN
CALSCALE:GREGORIAN
METHOD:PUBLISH
X-ORIGINAL-URL:https://brohnhomes.com
X-WR-CALDESC:Events for Brohn Homes
REFRESH-INTERVAL;VALUE=DURATION:PT1H
X-Robots-Tag:noindex
X-PUBLISHED-TTL:PT1H
BEGIN:VTIMEZONE
TZID:America/Chicago
BEGIN:DAYLIGHT
TZOFFSETFROM:-0600
TZOFFSETTO:-0500
TZNAME:CDT
DTSTART:20220313T080000
END:DAYLIGHT
BEGIN:STANDARD
TZOFFSETFROM:-0500
TZOFFSETTO:-0600
TZNAME:CST
DTSTART:20221106T070000
END:STANDARD
BEGIN:DAYLIGHT
TZOFFSETFROM:-0600
TZOFFSETTO:-0500
TZNAME:CDT
DTSTART:20230312T080000
END:DAYLIGHT
BEGIN:STANDARD
TZOFFSETFROM:-0500
TZOFFSETTO:-0600
TZNAME:CST
DTSTART:20231105T070000
END:STANDARD
BEGIN:DAYLIGHT
TZOFFSETFROM:-0600
TZOFFSETTO:-0500
TZNAME:CDT
DTSTART:20240310T080000
END:DAYLIGHT
BEGIN:STANDARD
TZOFFSETFROM:-0500
TZOFFSETTO:-0600
TZNAME:CST
DTSTART:20241103T070000
END:STANDARD
END:VTIMEZONE
BEGIN:VEVENT
DTSTART;TZID=America/Chicago:20231102T113000
DTEND;TZID=America/Chicago:20231102T140000
DTSTAMP:20260421T103339
CREATED:20231017T212027Z
LAST-MODIFIED:20231017T212211Z
UID:14746-1698924600-1698933600@brohnhomes.com
SUMMARY:New Construction Crash Course
DESCRIPTION:Join us to learn everything you wanted to know but were afraid to ask when selling new construction home sales\, the construction process\, and the warranty process. Plus a tour of the community and homes with our team!
URL:https://brohnhomes.com/event/new-construction-crash-course/
LOCATION:Harvest Ridge Sales Office\, 103 Roost Road\, Elgin\, TX\, 78621
CATEGORIES:Top Agent
ATTACH;FMTTYPE=image/jpeg:https://brohnhomes.com/wp-content/uploads/2023/06/147HarvestRidge.jpg
END:VEVENT
END:VCALENDAR