BEGIN:VCALENDAR
VERSION:2.0
PRODID:-//Brohn Homes - ECPv6.15.20//NONSGML v1.0//EN
CALSCALE:GREGORIAN
METHOD:PUBLISH
X-WR-CALNAME:Brohn Homes
X-ORIGINAL-URL:https://brohnhomes.com
X-WR-CALDESC:Events for Brohn Homes
REFRESH-INTERVAL;VALUE=DURATION:PT1H
X-Robots-Tag:noindex
X-PUBLISHED-TTL:PT1H
BEGIN:VTIMEZONE
TZID:America/Chicago
BEGIN:DAYLIGHT
TZOFFSETFROM:-0600
TZOFFSETTO:-0500
TZNAME:CDT
DTSTART:20220313T080000
END:DAYLIGHT
BEGIN:STANDARD
TZOFFSETFROM:-0500
TZOFFSETTO:-0600
TZNAME:CST
DTSTART:20221106T070000
END:STANDARD
BEGIN:DAYLIGHT
TZOFFSETFROM:-0600
TZOFFSETTO:-0500
TZNAME:CDT
DTSTART:20230312T080000
END:DAYLIGHT
BEGIN:STANDARD
TZOFFSETFROM:-0500
TZOFFSETTO:-0600
TZNAME:CST
DTSTART:20231105T070000
END:STANDARD
BEGIN:DAYLIGHT
TZOFFSETFROM:-0600
TZOFFSETTO:-0500
TZNAME:CDT
DTSTART:20240310T080000
END:DAYLIGHT
BEGIN:STANDARD
TZOFFSETFROM:-0500
TZOFFSETTO:-0600
TZNAME:CST
DTSTART:20241103T070000
END:STANDARD
END:VTIMEZONE
BEGIN:VEVENT
DTSTART;TZID=America/Chicago:20231007T100000
DTEND;TZID=America/Chicago:20231007T180000
DTSTAMP:20260421T085650
CREATED:20230908T133011Z
LAST-MODIFIED:20230908T133240Z
UID:14247-1696672800-1696701600@brohnhomes.com
SUMMARY:Lending & New Home Buying 101
DESCRIPTION:Join CMG Financial and our New Home Consultants to answer all your questions about financing promotions and the home-buying process from pre-approval to closing. Plus\, explore the newest model homes and community amenities! \n\n\n\nHow do I purchase with $0 Closing Costs?\nAt Oaks at San Gabriel\, you can do this!\nHow much will promotional rates reduce my monthly payment?\nHow much can I afford?\nWhat is available in my price range?\n\n\n\nOpen House 10am-6pm \nBites and refreshments will be served.
URL:https://brohnhomes.com/event/lending-new-home-buying-101-3/
LOCATION:Oaks at San Gabriel Model\, 1229 Terrace View Drive\, Georgetown\, TX\, 78628\, United States
ATTACH;FMTTYPE=image/jpeg:https://brohnhomes.com/wp-content/uploads/2021/12/1229_Terrace_View_Oaks_at_San_Gabriel_Exterior.jpg
END:VEVENT
BEGIN:VEVENT
DTSTART;TZID=America/Chicago:20231007T100000
DTEND;TZID=America/Chicago:20231007T180000
DTSTAMP:20260421T085650
CREATED:20230908T133200Z
LAST-MODIFIED:20230908T133200Z
UID:14250-1696672800-1696701600@brohnhomes.com
SUMMARY:Préstamos y la Compra de Vivienda 101
DESCRIPTION:¡Acompaña CMG Financial y al equipo de ventas de Oaks at San Gabriel para aprender todo lo que necesitas para encontrar la casa perfecta! Ellos podrán responder a preguntas sobre promociones financieras y el proceso de compras para la casa de sus sueños! \n\n¿Comó puedo comprar sin costos de cierre?\nEn Oaks at San Gabriel\, ¡puedes hacer esto!\n¿Qué tanto puede bajar mi pago mensual con estas promociones?\n¿Cuanto puedo pagar?\n¿Que esta disponible en mi gama de precios?\n\nCasa Abierta 10am – 6pm \nHabrá refrigerios y bebidas.
URL:https://brohnhomes.com/event/prestamos-y-la-compra-de-vivienda-101-5/
LOCATION:Oaks at San Gabriel Model\, 1229 Terrace View Drive\, Georgetown\, TX\, 78628\, United States
ATTACH;FMTTYPE=image/jpeg:https://brohnhomes.com/wp-content/uploads/2021/12/1229_Terrace_View_Oaks_at_San_Gabriel_Exterior.jpg
END:VEVENT
END:VCALENDAR